Workbook

Sheet Student Detail
A1: THOOTHUKUDI NEET REGIONAL CENTRE
A2: SI.NO | B2: Emis ID | C2: Student Name | D2: Remark
A3: 1 | B3: 2014356893 | C3: AARTHIKADEVI P
A4: 2 | B4: 1015079877 | C4: AMEERA S
A5: 3 | B5: 2016598873 | C5: ANTRORIJOWIN
A6: 4 | B6: 1014764389 | C6: ARULGANESH A
A7: 5 | B7: 1014542876 | C7: DENIAL SAMSON S
A8: 6 | B8: 1014832498 | C8: DHARINI M | D8: Unwilling Not yet TC Issued she continue in sivagangai Model School
A9: 7 | B9: 1014594653 | C9: ELANGOVAN K
A10: 8 | B10: 1015235387 | C10: GANESH ABISHEIK V
A11: 9 | B11: 1014601654 | C11: GOKULRAJ R
A12: 10 | B12: 2019641415 | C12: GOWSALYA N
A13: 11 | B13: 1014609110 | C13: GOWSHIK G
A14: 12 | B14: 1015400429 | C14: HARIPRASATH J
A15: 13 | B15: 2014653512 | C15: HARSHINIK
A16: 14 | B16: 1014705483 | C16: JANANI S
A17: 15 | B17: 1023853711 | C17: KANNAN M
A18: 16 | B18: 2014626533 | C18: KARTHICK AGIL I
A19: 17 | B19: 1014917811 | C19: KOUSIKA S
A20: 18 | B20: 1015897107 | C20: MALATHI E
... A38: 36 | B38: 1019525271 | C38: VIJAYSAKTHI B

Sheet DT-1
A1: THOOTHUKUDI NEET REGIONAL CENTRE Daily Test - 1
A2: Roll No | B2: Name | C2: Total Marks | D2: Correct Answers | E2: Incorrect Answers | F2: Not attempted | G2: Physics | H2: Physics _Correct Answers | I2: Physics _Incorrect Answers | J2: Physics _Not attempted | K2: Chemistry | L2: Chemistry_Correct Answers | M2: Chemistry_Incorrect Answers | N2: Chemistry_Not attempted | O2: Zoology | P2: Zoology_Correct Answers | Q2: Zoology_Incorrect Answers | R2: Zoology_Not attempted
A3: 30 | B3: {=_xludf.XLOOKUP(A3,'Student Detail'!A:A,'Student Detail'!C:C)} -> #NAME? | C3: 131 | D3: 34 | E3: 5 | F3: 6 | G3: 26 | H3: 7 | I3: 2 | J3: 6 | K3: 55 | L3: 14 | M3: 1 | N3: 0 | O3: 50 | P3: 13 | Q3: 2 | R3: 0
A4: 3 | B4: {=_xludf.XLOOKUP(A4,'Student Detail'!A:A,'Student Detail'!C:C)} -> #NAME? | C4: 119 | D4: 31 | E4: 5 | F4: 9 | G4: 9 | H4: 3 | I4: 3 | J4: 9 | K4: 55 | L4: 14 | M4: 1 | N4: 0 | O4: 55 | P4: 14 | Q4: 1 | R4: 0
A5: 20 | B5: {=_xludf.XLOOKUP(A5,'Student Detail'!A:A,'Student Detail'!C:C)} -> #NAME? | C5: 118 | D5: 30 | E5: 2 | F5: 13 | G5: 19 | H5: 5 | I5: 1 | J5: 9 | K5: 56 | L5: 14 | M5: 0 | N5: 1 | O5: 43 | P5: 11 | Q5: 1 | R5: 3
A6: 14 | B6: {=_xludf.XLOOKUP(A6,'Student Detail'!A:A,'Student Detail'!C:C)} -> #NAME? | C6: 118 | D6: 31 | E6: 6 | F6: 8 | G6: 18 | H6: 5 | I6: 2 | J6: 8 | K6: 45 | L6: 12 | M6: 3 | N6: 0 | O6: 55 | P6: 14 | Q6: 1 | R6: 0
A7: 8 | B7: {=_xludf.XLOOKUP(A7,'Student Detail'!A:A,'Student Detail'!C:C)} -> #NAME? | C7: 116 | D7: 30 | E7: 4 | F7: 11 | G7: 28 | H7: 7 | I7: 0 | J7: 8 | K7: 32 | L7: 9 | M7: 4 | N7: 2 | O7: 56 | P7: 14 | Q7: 0 | R7: 1
A8: 16 | B8: {=_xludf.XLOOKUP(A8,'Student Detail'!A:A,'Student Detail'!C:C)} -> #NAME? | C8: 108 | D8: 28 | E8: 4 | F8: 13 | G8: 15 | H8: 4 | I8: 1 | J8: 10 | K8: 47 | L8: 12 | M8: 1 | N8: 2 | O8: 46 | P8: 12 | Q8: 2 | R8: 1
A9: 21 | B9: {=_xludf.XLOOKUP(A9,'Student Detail'!A:A,'Student Detail'!C:C)} -> #NAME? | C9: 105 | D9: 27 | E9: 3 | F9: 15 | G9: 9 | H9: 3 | I9: 3 | J9: 9 | K9: 48 | L9: 12 | M9: 0 | N9: 3 | O9: 48 | P9: 12 | Q9: 0 | R9: 3
A10: 35 | B10: {=_xludf.XLOOKUP(A10,'Student Detail'!A:A,'Student Detail'!C:C)} -> #NAME? | C10: 101 | D10: 26 | E10: 3 | F10: 16 | G10: 14 | H10: 4 | I10: 2 | J10: 9 | K10: 40 | L10: 10 | M10: 0 | N10: 5 | O10: 47 | P10: 12 | Q10: 1 | R10: 2
A11: 26 | B11: {=_xludf.XLOOKUP(A11,'Student Detail'!A:A,'Student Detail'!C:C)} -> #NAME? | C11: 98 | D11: 25 | E11: 2 | F11: 18 | G11: 4 | H11: 1 | I11: 0 | J11: 14 | K11: 39 | L11: 10 | M11: 1 | N11: 4 | O11: 55 | P11: 14 | Q11: 1 | R11: 0
A12: 7 | B12: {=_xludf.XLOOKUP(A12,'Student Detail'!A:A,'Student Detail'!C:C)} -> #NAME? | C12: 97 | D12: 28 | E12: 15 | F12: 2 | G12: 22 | H12: 7 | I12: 6 | J12: 2 | K12: 40 | L12: 11 | M12: 4 | N12: 0 | O12: 35 | P12: 10 | Q12: 5 | R12: 0
A13: 11 | B13: {=_xludf.XLOOKUP(A13,'Student Detail'!A:A,'Student Detail'!C:C)} -> #NAME? | C13: 92 | D13: 24 | E13: 4 | F13: 17 | G13: 8 | H13: 2 | I13: 0 | J13: 13 | K13: 32 | L13: 9 | M13: 4 | N13: 2 | O13: 52 | P13: 13 | Q13: 0 | R13: 2
A14: 34 | B14: {=_xludf.XLOOKUP(A14,'Student Detail'!A:A,'Student Detail'!C:C)} -> #NAME? | C14: 92 | D14: 25 | E14: 8 | F14: 12 | G14: 14 | H14: 4 | I14: 2 | J14: 9 | K14: 37 | L14: 10 | M14: 3 | N14: 2 | O14: 41 | P14: 11 | Q14: 3 | R14: 1
... A35: 32 | B35: {=_xludf.XLOOKUP(A35,'Student Detail'!A:A,'Student Detail'!C:C)} -> #NAME? | C35: 49 | D35: 14 | E35: 7 | F35: 24 | G35: 1 | H35: 1 | I35: 3 | J35: 11 | K35: 8 | L35: 3 | M35: 4 | N35: 8 | O35: 40 | P35: 10 | Q35: 0 | R35: 5

Sheet DT-2
A1: THOOTHUKUDI NEET REGIONAL CENTRE Daily Test - 2
A2: Roll No | B2: Name | C2: Total Marks | D2: Correct Answers | E2: Incorrect Answers | F2: Not attempted | G2: Physics | H2: Physics _Correct Answers | I2: Physics _Incorrect Answers | J2: Physics _Not attempted | K2: Chemistry | L2: Chemistry_Correct Answers | M2: Chemistry_Incorrect Answers | N2: Chemistry_Not attempted | O2: Botany | P2: Botany_Correct Answers | Q2: Botany_Incorrect Answers | R2: Botany_Not attempted | S2: Zoology | T2: Zoology_Correct Answers | U2: Zoology_Incorrect Answers | V2: Zoology_Not attempted
A3: 20 | B3: =VLOOKUP(A2:A37,'Student Detail'!A2:C38,3,0) -> MUTHU LAKSHMI G | C3: 104 | D3: 29 | E3: 12 | F3: 19 | G3: 15 | H3: 4 | I3: 1 | J3: 10 | K3: 16 | L3: 6 | M3: 8 | N3: 1 | O3: 23 | P3: 6 | Q3: 1 | R3: 8 | S3: 50 | T3: 13 | U3: 2 | V3: 0
A4: 27 | B4: =VLOOKUP(A3:A38,'Student Detail'!A3:C38,3,0) -> SABARISRIRAM I | C4: 100 | D4: 28 | E4: 12 | F4: 20 | G4: 13 | H4: 4 | I4: 3 | J4: 8 | K4: 19 | L4: 6 | M4: 5 | N4: 4 | O4: 33 | P4: 9 | Q4: 3 | R4: 3 | S4: 35 | T4: 9 | U4: 1 | V4: 5
A5: 26 | B5: =VLOOKUP(A4:A39,'Student Detail'!A4:C39,3,0) -> RINO V | C5: 89 | D5: 26 | E5: 15 | F5: 19 | G5: 1 | H5: 1 | I5: 3 | J5: 11 | K5: 16 | L5: 6 | M5: 8 | N5: 1 | O5: 17 | P5: 5 | Q5: 3 | R5: 7 | S5: 55 | T5: 14 | U5: 1 | V5: 0
A6: 34 | B6: =VLOOKUP(A5:A40,'Student Detail'!A5:C40,3,0) -> SURESH KUMAR B | C6: 59 | D6: 19 | E6: 17 | F6: 24 | G6: -2 | H6: 1 | I6: 6 | J6: 8 | K6: 10 | L6: 4 | M6: 6 | N6: 5 | O6: 16 | P6: 4 | Q6: 0 | R6: 11 | S6: 35 | T6: 10 | U6: 5 | V6: 0
A7: 22 | B7: =VLOOKUP(A6:A41,'Student Detail'!A6:C41,3,0) -> NEEDHIRAJAN V | C7: 60 | D7: 20 | E7: 20 | F7: 20 | G7: 5 | H7: 2 | I7: 3 | J7: 10 | K7: 16 | L7: 6 | M7: 8 | N7: 1 | O7: 4 | P7: 2 | Q7: 4 | R7: 9 | S7: 35 | T7: 10 | U7: 5 | V7: 0
A8: 7 | B8: =VLOOKUP(A7:A42,'Student Detail'!A7:C42,3,0) -> ELANGOVAN K | C8: 56 | D8: 22 | E8: 32 | F8: 6 | G8: 12 | H8: 5 | I8: 8 | J8: 2 | K8: 8 | L8: 4 | M8: 8 | N8: 3 | O8: 11 | P8: 5 | Q8: 9 | R8: 1 | S8: 25 | T8: 8 | U8: 7 | V8: 0
A9: 30 | B9: =VLOOKUP(A8:A43,'Student Detail'!A8:C43,3,0) -> SHALINI S | C9: 109 | D9: 32 | E9: 19 | F9: 9 | G9: 1 | H9: 2 | I9: 7 | J9: 6 | K9: 26 | L9: 8 | M9: 6 | N9: 1 | O9: 22 | P9: 7 | Q9: 6 | R9: 2 | S9: 60 | T9: 15 | U9: 0 | V9: 0
A10: 24 | B10: =VLOOKUP(A9:A44,'Student Detail'!A9:C44,3,0) -> RAGAVI D | C10: 94 | D10: 29 | E10: 22 | F10: 9 | G10: 8 | H10: 3 | I10: 4 | J10: 8 | K10: 15 | L10: 6 | M10: 9 | N10: 0 | O10: 21 | P10: 7 | Q10: 7 | R10: 1 | S10: 50 | T10: 13 | U10: 2 | V10: 0
A11: 29 | B11: =VLOOKUP(A10:A45,'Student Detail'!A10:C45,3,0) -> SATHYASRI K | C11: 100 | D11: 28 | E11: 12 | F11: 20 | G11: 5 | H11: 2 | I11: 3 | J11: 10 | K11: 14 | L11: 5 | M11: 6 | N11: 4 | O11: 35 | P11: 9 | Q11: 1 | R11: 5 | S11: 46 | T11: 12 | U11: 2 | V11: 1
A12: 25 | B12: =VLOOKUP(A11:A46,'Student Detail'!A11:C46,3,0) -> RAGAVI N | C12: 47 | D12: 18 | E12: 25 | F12: 17 | G12: -4 | H12: 1 | I12: 8 | J12: 6 | K12: 14 | L12: 5 | M12: 6 | N12: 4 | O12: 1 | P12: 2 | Q12: 7 | R12: 6 | S12: 36 | T12: 10 | U12: 4 | V12: 1
A13: 14 | B13: =VLOOKUP(A12:A47,'Student Detail'!A12:C47,3,0) -> JANANI S | C13: 82 | D13: 25 | E13: 18 | F13: 17 | G13: 7 | H13: 3 | I13: 5 | J13: 7 | K13: -2 | L13: 2 | M13: 10 | N13: 3 | O13: 17 | P13: 5 | Q13: 3 | R13: 7 | S13: 60 | T13: 15 | U13: 0 | V13: 0
A14: 35 | B14: =VLOOKUP(A13:A48,'Student Detail'!A13:C48,3,0) -> VARSHASRI L | C14: 111 | D14: 32 | E14: 17 | F14: 11 | G14: 17 | H14: 5 | I14: 3 | J14: 7 | K14: 6 | L14: 4 | M14: 10 | N14: 1 | O14: 38 | P14: 10 | Q14: 2 | R14: 3 | S14: 50 | T14: 13 | U14: 2 | V14: 0
A15: 2 | B15: AMEERA S | C15: 73 | D15: 24 | E15: 23 | F15: 13 | G15: 6 | H15: 2 | I15: 2 | J15: 11 | K15: 10 | L15: 5 | M15: 10 | N15: 0 | O15: 21 | P15: 7 | Q15: 7 | R15: 1 | S15: 36 | T15: 10 | U15: 4 | V15: 1
A16: 13 | B16: =VLOOKUP(A15:A50,'Student Detail'!A15:C50,3,0) -> HARSHINIK | C16: 82 | D16: 26 | E16: 22 | F16: 12 | G16: 8 | H16: 3 | I16: 4 | J16: 8 | K16: 15 | L16: 6 | M16: 9 | N16: 0 | O16: 19 | P16: 6 | Q16: 5 | R16: 4 | S16: 40 | T16: 11 | U16: 4 | V16: 0
A17: 10 | B17: GOWSALYA N | C17: 85 | D17: 27 | E17: 23 | F17: 10 | G17: 2 | H17: 2 | I17: 6 | J17: 7 | K17: 7 | L17: 4 | M17: 9 | N17: 2 | O17: 21 | P17: 7 | Q17: 7 | R17: 1 | S17: 55 | T17: 14 | U17: 1 | V17: 0
A18: 3 | B18: ANTRORIJOWIN | C18: 108 | D18: 31 | E18: 16 | F18: 13 | G18: 10 | H18: 3 | I18: 2 | J18: 10 | K18: 10 | L18: 5 | M18: 10 | N18: 0 | O18: 38 | P18: 10 | Q18: 2 | R18: 3 | S18: 50 | T18: 13 | U18: 2 | V18: 0
A19: 23 | B19: =VLOOKUP(A18:A53,'Student Detail'!A18:C53,3,0) -> PAVIKAK | C19: 85 | D19: 26 | E19: 19 | F19: 15 | G19: 6 | H19: 2 | I19: 2 | J19: 11 | K19: 20 | L19: 7 | M19: 8 | N19: 0 | O19: 18 | P19: 6 | Q19: 6 | R19: 3 | S19: 41 | T19: 11 | U19: 3 | V19: 1
A20: 17 | B20: =VLOOKUP(A19:A54,'Student Detail'!A19:C54,3,0) -> KOUSIKA S | C20: 68 | D20: 23 | E20: 24 | F20: 13 | G20: 2 | H20: 2 | I20: 6 | J20: 7 | K20: 3 | L20: 3 | M20: 9 | N20: 3 | O20: 23 | P20: 7 | Q20: 5 | R20: 3 | S20: 40 | T20: 11 | U20: 4 | V20: 0
A21: 21 | B21: =VLOOKUP(A20:A55,'Student Detail'!A20:C55,3,0) -> NAVEENAROSELIN A | C21: 60 | D21: 20 | E21: 20 | F21: 20 | G21: 15 | H21: 4 | I21: 1 | J21: 10 | K21: 7 | L21: 4 | M21: 9 | N21: 2 | O21: 8 | P21: 3 | Q21: 4 | R21: 8 | S21: 30 | T21: 9 | U21: 6 | V21: 0
A22: 18 | B22: MALATHI E | C22: 80 | D22: 25 | E22: 20 | F22: 15 | G22: 3 | H22: 2 | I22: 5 | J22: 8 | K22: 15 | L22: 6 | M22: 9 | N22: 0 | O22: 12 | P22: 4 | Q22: 4 | R22: 7 | S22: 50 | T22: 13 | U22: 2 | V22: 0
A23: 28 | B23: SARIGA J | C23: 65 | D23: 20 | E23: 15 | F23: 25 | G23: 0 | H23: 2 | I23: 8 | J23: 5 | K23: 7 | L23: 2 | M23: 1 | N23: 12 | O23: 12 | P23: 4 | Q23: 4 | R23: 7 | S23: 46 | T23: 12 | U23: 2 | V23: 1
A24: 9 | B24: GOKULRAJ R | C24: 111 | D24: 31 | E24: 13 | F24: 16 | G24: 9 | H24: 3 | I24: 3 | J24: 9 | K24: 14 | L24: 5 | M24: 6 | N24: 4 | O24: 33 | P24: 9 | Q24: 3 | R24: 3 | S24: 55 | T24: 14 | U24: 1 | V24: 0
A25: 8 | B25: GANESH ABISHEIK V | C25: 89 | D25: 27 | E25: 19 | F25: 14 | G25: 4 | H25: 2 | I25: 4 | J25: 9 | K25: 15 | L25: 6 | M25: 9 | N25: 0 | O25: 20 | P25: 6 | Q25: 4 | R25: 5 | S25: 50 | T25: 13 | U25: 2 | V25: 0
A26: 15 | B26: KANNAN M | C26: 92 | D26: 26 | E26: 12 | F26: 22 | G26: 4 | H26: 3 | I26: 8 | J26: 4 | K26: 7 | L26: 2 | M26: 1 | N26: 12 | O26: 26 | P26: 7 | Q26: 2 | R26: 6 | S26: 55 | T26: 14 | U26: 1 | V26: 0
A27: 11 | B27: GOWSHIK G | C27: 63 | D27: 20 | E27: 17 | F27: 23 | G27: 4 | H27: 2 | I27: 4 | J27: 9 | K27: 12 | L27: 4 | M27: 4 | N27: 7 | O27: 11 | P27: 4 | Q27: 5 | R27: 6 | S27: 36 | T27: 10 | U27: 4 | V27: 1
A28: 32 | B28: =VLOOKUP(A27:A62,'Student Detail'!A27:C62,3,0) -> SREEJESH M | C28: 78 | D28: 21 | E28: 6 | F28: 33 | G28: 8 | H28: 2 | I28: 0 | J28: 13 | K28: 4 | L28: 2 | M28: 4 | N28: 9 | O28: 11 | P28: 3 | Q28: 1 | R28: 11 | S28: 55 | T28: 14 | U28: 1 | V28: 0
A29: 4 | B29: ARULGANESH A | C29: 85 | D29: 24 | E29: 11 | F29: 25 | G29: 8 | H29: 2 | I29: 0 | J29: 13 | K29: 9 | L29: 4 | M29: 7 | N29: 4 | O29: 18 | P29: 5 | Q29: 2 | R29: 8 | S29: 50 | T29: 13 | U29: 2 | V29: 0
A30: 5 | B30: DENIAL SAMSON S | C30: 61 | D30: 19 | E30: 15 | F30: 26 | G30: 2 | H30: 1 | I30: 2 | J30: 12 | K30: 3 | L30: 3 | M30: 9 | N30: 3 | O30: 20 | P30: 5 | Q30: 0 | R30: 10 | S30: 36 | T30: 10 | U30: 4 | V30: 1
A31: 33 | B31: =VLOOKUP(A30:A65,'Student Detail'!A30:C65,3,0) -> SUJITH A | C31: 50 | D31: 15 | E31: 10 | F31: 35 | G31: 0 | H31: 1 | I31: 4 | J31: 10 | K31: 7 | L31: 2 | M31: 1 | N31: 12 | O31: 6 | P31: 2 | Q31: 2 | R31: 11 | S31: 37 | T31: 10 | U31: 3 | V31: 2
A32: 19 | B32: MOHAMED MUSTHAQ H | C32: 95 | D32: 25 | E32: 5 | F32: 30 | G32: 8 | H32: 2 | I32: 0 | J32: 13 | K32: 7 | L32: 3 | M32: 5 | N32: 7 | O32: 20 | P32: 5 | Q32: 0 | R32: 10 | S32: 60 | T32: 15 | U32: 0 | V32: 0
A33: 16 | B33: KARTHICK AGIL I | C33: 84 | D33: 25 | E33: 16 | F33: 19 | G33: 15 | H33: 4 | I33: 1 | J33: 10 | K33: 10 | L33: 5 | M33: 10 | N33: 0 | O33: 9 | P33: 3 | Q33: 3 | R33: 9 | S33: 50 | T33: 13 | U33: 2 | V33: 0
A34: 36 | B34: =VLOOKUP(A33:A68,'Student Detail'!A33:C68,3,0) -> VIJAYSAKTHI B | C34: 49 | D34: 19 | E34: 27 | F34: 14 | G34: 4 | H34: 3 | I34: 8 | J34: 4 | K34: 8 | L34: 4 | M34: 8 | N34: 3 | O34: -3 | P34: 1 | Q34: 7 | R34: 7 | S34: 40 | T34: 11 | U34: 4 | V34: 0
A35: 1 | B35: AARTHIKADEVI P | C35: 86 | D35: 28 | E35: 26 | F35: 6 | G35: 14 | H35: 5 | I35: 6 | J35: 4 | K35: 10 | L35: 5 | M35: 10 | N35: 0 | O35: 17 | P35: 6 | Q35: 7 | R35: 2 | S35: 45 | T35: 12 | U35: 3 | V35: 0
A36: 31 | B36: SIMEON PRAY JAMES H | C36: 74 | D36: 24 | E36: 22 | F36: 14 | G36: 13 | H36: 4 | I36: 3 | J36: 8 | K36: 7 | L36: 4 | M36: 9 | N36: 2 | O36: 14 | P36: 5 | Q36: 6 | R36: 4 | S36: 40 | T36: 11 | U36: 4 | V36: 0
A37: 12 | B37: HARIPRASATH J | C37: 82 | D37: 24 | E37: 14 | F37: 22 | G37: 11 | H37: 3 | I37: 1 | J37: 11 | K37: 16 | L37: 6 | M37: 8 | N37: 1 | O37: 17 | P37: 5 | Q37: 3 | R37: 7 | S37: 38 | T37: 10 | U37: 2 | V37: 3

Sheet  DT-3
A1: THOOTHUKUDI NEET REGIONAL CENTRE Daily Test - 3
A2: Roll No | B2: Name | C2: Total Marks | D2: Correct Answers | E2: Incorrect Answers | F2: Not attempted | G2: Chemistry | H2: Chemistry_Correct Answers | I2: Chemistry_Incorrect Answers | J2: Chemistry_Not attempted | K2: Botany | L2: Botany_Correct Answers | M2: Botany_Incorrect Answers | N2: Botany_Not attempted | O2: Zoology | P2: Zoology_Correct Answers | Q2: Zoology_Incorrect Answers | R2: Zoology_Not attempted
A3: 24 | B3: {=_xludf.XLOOKUP(A3,'Student Detail'!A:A,'Student Detail'!C:C)} -> #NAME? | C3: 125 | D3: 33 | E3: 7 | F3: 5 | G3: 33 | H3: 9 | I3: 3 | J3: 3 | K3: 51 | L3: 13 | M3: 1 | N3: 1 | O3: 41 | P3: 11 | Q3: 3 | R3: 1
A4: 3 | B4: {=_xludf.XLOOKUP(A4,'Student Detail'!A:A,'Student Detail'!C:C)} -> #NAME? | C4: 120 | D4: 32 | E4: 8 | F4: 5 | G4: 35 | H4: 9 | I4: 1 | J4: 5 | K4: 55 | L4: 14 | M4: 1 | N4: 0 | O4: 30 | P4: 9 | Q4: 6 | R4: 0
A5: 1 | B5: {=_xludf.XLOOKUP(A5,'Student Detail'!A:A,'Student Detail'!C:C)} -> #NAME? | C5: 114 | D5: 31 | E5: 10 | F5: 4 | G5: 42 | H5: 11 | I5: 2 | J5: 2 | K5: 31 | L5: 9 | M5: 5 | N5: 1 | O5: 41 | P5: 11 | Q5: 3 | R5: 1
A6: 9 | B6: {=_xludf.XLOOKUP(A6,'Student Detail'!A:A,'Student Detail'!C:C)} -> #NAME? | C6: 111 | D6: 30 | E6: 9 | F6: 6 | G6: 25 | H6: 7 | I6: 3 | J6: 5 | K6: 41 | L6: 11 | M6: 3 | N6: 1 | O6: 45 | P6: 12 | Q6: 3 | R6: 0
A7: 35 | B7: {=_xludf.XLOOKUP(A7,'Student Detail'!A:A,'Student Detail'!C:C)} -> #NAME? | C7: 105 | D7: 29 | E7: 11 | F7: 5 | G7: 38 | H7: 10 | I7: 2 | J7: 3 | K7: 30 | L7: 9 | M7: 6 | N7: 0 | O7: 37 | P7: 10 | Q7: 3 | R7: 2
A8: 26 | B8: {=_xludf.XLOOKUP(A8,'Student Detail'!A:A,'Student Detail'!C:C)} -> #NAME? | C8: 103 | D8: 27 | E8: 5 | F8: 13 | G8: 20 | H8: 5 | I8: 0 | J8: 10 | K8: 38 | L8: 10 | M8: 2 | N8: 3 | O8: 45 | P8: 12 | Q8: 3 | R8: 0
A9: 21 | B9: {=_xludf.XLOOKUP(A9,'Student Detail'!A:A,'Student Detail'!C:C)} -> #NAME? | C9: 103 | D9: 27 | E9: 5 | F9: 13 | G9: 22 | H9: 6 | I9: 2 | J9: 7 | K9: 33 | L9: 9 | M9: 3 | N9: 3 | O9: 48 | P9: 12 | Q9: 0 | R9: 3
A10: 15 | B10: {=_xludf.XLOOKUP(A10,'Student Detail'!A:A,'Student Detail'!C:C)} -> #NAME? | C10: 102 | D10: 28 | E10: 10 | F10: 7 | G10: 16 | H10: 5 | I10: 4 | J10: 6 | K10: 40 | L10: 11 | M10: 4 | N10: 0 | O10: 46 | P10: 12 | Q10: 2 | R10: 1
A11: 10 | B11: {=_xludf.XLOOKUP(A11,'Student Detail'!A:A,'Student Detail'!C:C)} -> #NAME? | C11: 102 | D11: 28 | E11: 10 | F11: 7 | G11: 26 | H11: 7 | I11: 2 | J11: 6 | K11: 35 | L11: 10 | M11: 5 | N11: 0 | O11: 41 | P11: 11 | Q11: 3 | R11: 1
A12: 23 | B12: {=_xludf.XLOOKUP(A12,'Student Detail'!A:A,'Student Detail'!C:C)} -> #NAME? | C12: 98 | D12: 26 | E12: 6 | F12: 13 | G12: 10 | H12: 3 | I12: 2 | J12: 10 | K12: 46 | L12: 12 | M12: 2 | N12: 1 | O12: 42 | P12: 11 | Q12: 2 | R12: 2
A13: 18 | B13: {=_xludf.XLOOKUP(A13,'Student Detail'!A:A,'Student Detail'!C:C)} -> #NAME? | C13: 89 | D13: 25 | E13: 11 | F13: 9 | G13: 17 | H13: 5 | I13: 3 | J13: 7 | K13: 27 | L13: 8 | M13: 5 | N13: 2 | O13: 45 | P13: 12 | Q13: 3 | R13: 0
A14: 20 | B14: {=_xludf.XLOOKUP(A14,'Student Detail'!A:A,'Student Detail'!C:C)} -> #NAME? | C14: 86 | D14: 24 | E14: 10 | F14: 11 | G14: 24 | H14: 7 | I14: 4 | J14: 4 | K14: 29 | L14: 8 | M14: 3 | N14: 4 | O14: 33 | P14: 9 | Q14: 3 | R14: 3
... A36: 4 | B36: {=_xludf.XLOOKUP(A36,'Student Detail'!A:A,'Student Detail'!C:C)} -> #NAME? | C36: 40 | D36: 12 | E36: 8 | F36: 25 | G36: 8 | H36: 2 | I36: 0 | J36: 13 | K36: 4 | L36: 2 | M36: 4 | N36: 9 | O36: 28 | P36: 8 | Q36: 4 | R36: 3

Sheet DT - 4
A1: THOOTHUKUDI NEET REGIONAL CENTRE Daily Test - 4
A2: Roll No | B2: Name | C2: Total Marks | D2: Correct Answers | E2: Incorrect Answers | F2: Not attempted | G2: Chemistry | H2: Chemistry_Correct Answers | I2: Chemistry_Incorrect Answers | J2: Chemistry_Not attempted | K2: Botany | L2: Botany_Correct Answers | M2: Botany_Incorrect Answers | N2: Botany_Not attempted | O2: Zoology | P2: Zoology_Correct Answers | Q2: Zoology_Incorrect Answers | R2: Zoology_Not attempted
A3: 1 | B3: {=_xludf.XLOOKUP(A3,'Student Detail'!A:A,'Student Detail'!C:C)} -> #NAME? | C3: 114 | D3: 31 | E3: 10 | F3: 4 | G3: 42 | H3: 11 | I3: 2 | J3: 2 | K3: 31 | L3: 9 | M3: 5 | N3: 1 | O3: 41 | P3: 11 | Q3: 3 | R3: 1
A4: 3 | B4: {=_xludf.XLOOKUP(A4,'Student Detail'!A:A,'Student Detail'!C:C)} -> #NAME? | C4: 120 | D4: 32 | E4: 8 | F4: 5 | G4: 35 | H4: 9 | I4: 1 | J4: 5 | K4: 55 | L4: 14 | M4: 1 | N4: 0 | O4: 30 | P4: 9 | Q4: 6 | R4: 0
A5: 4 | B5: {=_xludf.XLOOKUP(A5,'Student Detail'!A:A,'Student Detail'!C:C)} -> #NAME? | C5: 40 | D5: 12 | E5: 8 | F5: 25 | G5: 8 | H5: 2 | I5: 0 | J5: 13 | K5: 4 | L5: 2 | M5: 4 | N5: 9 | O5: 28 | P5: 8 | Q5: 4 | R5: 3
A6: 5 | B6: {=_xludf.XLOOKUP(A6,'Student Detail'!A:A,'Student Detail'!C:C)} -> #NAME? | C6: 80 | D6: 23 | E6: 12 | F6: 10 | G6: 22 | H6: 7 | I6: 6 | J6: 2 | K6: 27 | L6: 8 | M6: 5 | N6: 2 | O6: 31 | P6: 8 | Q6: 1 | R6: 6
A7: 7 | B7: {=_xludf.XLOOKUP(A7,'Student Detail'!A:A,'Student Detail'!C:C)} -> #NAME? | C7: 54 | D7: 18 | E7: 18 | F7: 9 | G7: 18 | H7: 6 | I7: 6 | J7: 3 | K7: 13 | L7: 5 | M7: 7 | N7: 3 | O7: 23 | P7: 7 | Q7: 5 | R7: 3
A8: 8 | B8: {=_xludf.XLOOKUP(A8,'Student Detail'!A:A,'Student Detail'!C:C)} -> #NAME? | C8: 56 | D8: 18 | E8: 16 | F8: 11 | G8: 28 | H8: 8 | I8: 4 | J8: 3 | K8: 21 | L8: 7 | M8: 7 | N8: 1 | O8: 7 | P8: 3 | Q8: 5 | R8: 7
A9: 9 | B9: {=_xludf.XLOOKUP(A9,'Student Detail'!A:A,'Student Detail'!C:C)} -> #NAME? | C9: 111 | D9: 30 | E9: 9 | F9: 6 | G9: 25 | H9: 7 | I9: 3 | J9: 5 | K9: 41 | L9: 11 | M9: 3 | N9: 1 | O9: 45 | P9: 12 | Q9: 3 | R9: 0
A10: 10 | B10: {=_xludf.XLOOKUP(A10,'Student Detail'!A:A,'Student Detail'!C:C)} -> #NAME? | C10: 102 | D10: 28 | E10: 10 | F10: 7 | G10: 26 | H10: 7 | I10: 2 | J10: 6 | K10: 35 | L10: 10 | M10: 5 | N10: 0 | O10: 41 | P10: 11 | Q10: 3 | R10: 1
A11: 11 | B11: {=_xludf.XLOOKUP(A11,'Student Detail'!A:A,'Student Detail'!C:C)} -> #NAME? | C11: 46 | D11: 15 | E11: 14 | F11: 16 | G11: 8 | H11: 3 | I11: 4 | J11: 8 | K11: 11 | L11: 4 | M11: 5 | N11: 6 | O11: 27 | P11: 8 | Q11: 5 | R11: 2
A12: 12 | B12: {=_xludf.XLOOKUP(A12,'Student Detail'!A:A,'Student Detail'!C:C)} -> #NAME? | C12: 86 | D12: 23 | E12: 6 | F12: 16 | G12: 19 | H12: 5 | I12: 1 | J12: 9 | K12: 37 | L12: 10 | M12: 3 | N12: 2 | O12: 30 | P12: 8 | Q12: 2 | R12: 5
A13: 13 | B13: {=_xludf.XLOOKUP(A13,'Student Detail'!A:A,'Student Detail'!C:C)} -> #NAME? | C13: 68 | D13: 21 | E13: 16 | F13: 8 | G13: 29 | H13: 8 | I13: 3 | J13: 4 | K13: 18 | L13: 6 | M13: 6 | N13: 3 | O13: 21 | P13: 7 | Q13: 7 | R13: 1
A14: 14 | B14: {=_xludf.XLOOKUP(A14,'Student Detail'!A:A,'Student Detail'!C:C)} -> #NAME? | C14: 85 | D14: 24 | E14: 11 | F14: 10 | G14: 28 | H14: 7 | I14: 0 | J14: 8 | K14: 22 | L14: 7 | M14: 6 | N14: 2 | O14: 35 | P14: 10 | Q14: 5 | R14: 0
... A36: 36 | B36: {=_xludf.XLOOKUP(A36,'Student Detail'!A:A,'Student Detail'!C:C)} -> #NAME? | C36: 65 | D36: 20 | E36: 15 | F36: 10 | G36: 9 | H36: 4 | I36: 7 | J36: 4 | K36: 26 | L36: 8 | M36: 6 | N36: 1 | O36: 30 | P36: 8 | Q36: 2 | R36: 5

Sheet DT-5 TM
A1: THOOTHUKUDI NEET REGIONAL CENTRE Daily Test - 5 TAMIL MEDIUM
A2: Roll No | B2: Name | C2: Total Marks | D2: Correct Answers | E2: Incorrect Answers | F2: Not attempted | G2: Physics | H2: Physics _Correct Answers | I2: Physics _Incorrect Answers | J2: Physics _Not attempted | K2: Chemistry | L2: Chemistry_Correct Answers | M2: Chemistry_Incorrect Answers | N2: Chemistry_Not attempted | O2: Botany | P2: Botany_Correct Answers | Q2: Botany_Incorrect Answers | R2: Botany_Not attempted | S2: Zoology | T2: Zoology_Correct Answers | U2: Zoology_Incorrect Answers | V2: Zoology_Not attempted
A3: 17 | B3: KOUSIKA S | C3: 133 | D3: 36 | E3: 11 | F3: 13 | G3: 15 | H3: 5 | I3: 5 | J3: 5 | K3: 12 | L3: 4 | M3: 4 | N3: 7 | O3: 55 | P3: 14 | Q3: 1 | R3: 0 | S3: 51 | T3: 13 | U3: 1 | V3: 1
A4: 30 | B4: SHALINI S | C4: 121 | D4: 33 | E4: 11 | F4: 16 | G4: 15 | H4: 5 | I4: 5 | J4: 5 | K4: 27 | L4: 7 | M4: 1 | N4: 7 | O4: 27 | P4: 8 | Q4: 5 | R4: 2 | S4: 52 | T4: 13 | U4: 0 | V4: 2
A5: 34 | B5: SURESH KUMAR B | C5: 108 | D5: 29 | E5: 8 | F5: 23 | G5: 12 | H5: 3 | I5: 0 | J5: 12 | K5: 16 | L5: 4 | M5: 0 | N5: 11 | O5: 35 | P5: 10 | Q5: 5 | R5: 0 | S5: 45 | T5: 12 | U5: 3 | V5: 0
A6: 23 | B6: PAVIKAK | C6: 107 | D6: 30 | E6: 13 | F6: 17 | G6: 15 | H6: 5 | I6: 5 | J6: 5 | K6: 16 | L6: 4 | M6: 0 | N6: 11 | O6: 30 | P6: 9 | Q6: 6 | R6: 0 | S6: 46 | T6: 12 | U6: 2 | V6: 1
A7: 9 | B7: GOKULRAJ R | C7: 102 | D7: 30 | E7: 18 | F7: 12 | G7: 10 | H7: 4 | I7: 6 | J7: 5 | K7: 11 | L7: 4 | M7: 5 | N7: 6 | O7: 31 | P7: 9 | Q7: 5 | R7: 1 | S7: 50 | T7: 13 | U7: 2 | V7: 0
A8: 29 | B8: SATHYASRI K | C8: 91 | D8: 25 | E8: 9 | F8: 26 | G8: 3 | H8: 2 | I8: 5 | J8: 8 | K8: 17 | L8: 5 | M8: 3 | N8: 7 | O8: 20 | P8: 5 | Q8: 0 | R8: 10 | S8: 51 | T8: 13 | U8: 1 | V8: 1
A9: 12 | B9: HARIPRASATH J | C9: 90 | D9: 24 | E9: 6 | F9: 30 | G9: 15 | H9: 4 | I9: 1 | J9: 10 | K9: 7 | L9: 2 | M9: 1 | N9: 12 | O9: 33 | P9: 9 | Q9: 3 | R9: 3 | S9: 35 | T9: 9 | U9: 1 | V9: 5
A10: 21 | B10: NAVEENAROSELIN A | C10: 89 | D10: 25 | E10: 11 | F10: 24 | G10: 19 | H10: 5 | I10: 1 | J10: 9 | K10: 2 | L10: 1 | M10: 2 | N10: 12 | O10: 23 | P10: 7 | Q10: 5 | R10: 3 | S10: 45 | T10: 12 | U10: 3 | V10: 0
A11: 14 | B11: JANANI S | C11: 88 | D11: 26 | E11: 16 | F11: 18 | G11: 5 | H11: 3 | I11: 7 | J11: 5 | K11: 13 | L11: 4 | M11: 3 | N11: 8 | O11: 26 | P11: 8 | Q11: 6 | R11: 1 | S11: 44 | T11: 11 | U11: 0 | V11: 4
A12: 7 | B12: ELANGOVAN K | C12: 85 | D12: 27 | E12: 23 | F12: 10 | G12: 22 | H12: 7 | I12: 6 | J12: 2 | K12: 0 | L12: 2 | M12: 8 | N12: 5 | O12: 27 | P12: 8 | Q12: 5 | R12: 2 | S12: 36 | T12: 10 | U12: 4 | V12: 1
A13: 2 | B13: AMEERA S | C13: 81 | D13: 24 | E13: 15 | F13: 21 | G13: 11 | H13: 4 | I13: 5 | J13: 6 | K13: 7 | L13: 2 | M13: 1 | N13: 12 | O13: 30 | P13: 9 | Q13: 6 | R13: 0 | S13: 33 | T13: 9 | U13: 3 | V13: 3
A14: 33 | B14: SUJITH A | C14: 67 | D14: 22 | E14: 21 | F14: 17 | G14: -5 | H14: 2 | I14: 13 | J14: 0 | K14: 16 | L14: 5 | M14: 4 | N14: 6 | O14: 10 | P14: 3 | Q14: 2 | R14: 10 | S14: 46 | T14: 12 | U14: 2 | V14: 1
... A20: 28 | B20: SARIGA J | C20: 52 | D20: 16 | E20: 12 | F20: 32 | G20: 10 | H20: 4 | I20: 6 | J20: 5 | K20: 0 | L20: 0 | M20: 0 | N20: 15 | O20: 7 | P20: 2 | Q20: 1 | R20: 12 | S20: 35 | T20: 10 | U20: 5 | V20: 0

Sheet DT-5 EM
A1: THOOTHUKUDI NEET REGIONAL CENTRE Daily Test - 6 ENGLISH MEDIUM
A2: Roll No | B2: Name | C2: Total Marks | D2: Correct Answers | E2: Incorrect Answers | F2: Not attempted | G2: Physics | H2: Physics _Correct Answers | I2: Physics _Incorrect Answers | J2: Physics _Not attempted | K2: Chemistry | L2: Chemistry_Correct Answers | M2: Chemistry_Incorrect Answers | N2: Chemistry_Not attempted | O2: Botany | P2: Botany_Correct Answers | Q2: Botany_Incorrect Answers | R2: Botany_Not attempted | S2: Zoology | T2: Zoology_Correct Answers | U2: Zoology_Incorrect Answers | V2: Zoology_Not attempted
A3: 4 | B3: ARULGANESH A | C3: 121 | D3: 31 | E3: 3 | F3: 26 | G3: 7 | H3: 2 | I3: 1 | J3: 12 | K3: 11 | L3: 3 | M3: 1 | N3: 11 | O3: 43 | P3: 11 | Q3: 1 | R3: 3 | S3: 60 | T3: 15 | U3: 0 | V3: 0
A4: 2 | B4: AMEERA S | C4: 119 | D4: 32 | E4: 9 | F4: 19 | G4: 2 | H4: 1 | I4: 2 | J4: 12 | K4: 26 | L4: 7 | M4: 2 | N4: 6 | O4: 40 | P4: 11 | Q4: 4 | R4: 0 | S4: 51 | T4: 13 | U4: 1 | V4: 1
A5: 20 | B5: MUTHU LAKSHMI G | C5: 117 | D5: 31 | E5: 7 | F5: 22 | G5: 13 | H5: 4 | I5: 3 | J5: 8 | K5: 15 | L5: 4 | M5: 1 | N5: 10 | O5: 42 | P5: 11 | Q5: 2 | R5: 2 | S5: 47 | T5: 12 | U5: 1 | V5: 2
A6: 8 | B6: GANESH ABISHEIK V | C6: 111 | D6: 30 | E6: 9 | F6: 21 | G6: 16 | H6: 4 | I6: 0 | J6: 11 | K6: 18 | L6: 5 | M6: 2 | N6: 8 | O6: 35 | P6: 10 | Q6: 5 | R6: 0 | S6: 42 | T6: 11 | U6: 2 | V6: 2
A7: 10 | B7: GOWSALYA N | C7: 100 | D7: 29 | E7: 16 | F7: 15 | G7: 3 | H7: 2 | I7: 5 | J7: 8 | K7: 12 | L7: 4 | M7: 4 | N7: 7 | O7: 35 | P7: 10 | Q7: 5 | R7: 0 | S7: 50 | T7: 13 | U7: 2 | V7: 0
A8: 15 | B8: KANNAN M | C8: 96 | D8: 27 | E8: 12 | F8: 21 | G8: 13 | H8: 4 | I8: 3 | J8: 8 | K8: 5 | L8: 2 | M8: 3 | N8: 10 | O8: 36 | P8: 10 | Q8: 4 | R8: 1 | S8: 42 | T8: 11 | U8: 2 | V8: 2
A9: 32 | B9: SREEJESH M | C9: 91 | D9: 25 | E9: 9 | F9: 26 | G9: 3 | H9: 1 | I9: 1 | J9: 13 | K9: 15 | L9: 4 | M9: 1 | N9: 10 | O9: 23 | P9: 7 | Q9: 5 | R9: 3 | S9: 50 | T9: 13 | U9: 2 | V9: 0
A10: 26 | B10: RINO V | C10: 90 | D10: 25 | E10: 10 | F10: 25 | G10: 2 | H10: 1 | I10: 2 | J10: 12 | K10: 5 | L10: 2 | M10: 3 | N10: 10 | O10: 32 | P10: 9 | Q10: 4 | R10: 2 | S10: 51 | T10: 13 | U10: 1 | V10: 1
A11: 16 | B11: KARTHICK AGIL I | C11: 89 | D11: 24 | E11: 7 | F11: 29 | G11: -2 | H11: 0 | I11: 2 | J11: 13 | K11: 15 | L11: 4 | M11: 1 | N11: 10 | O11: 31 | P11: 8 | Q11: 1 | R11: 6 | S11: 45 | T11: 12 | U11: 3 | V11: 0
A12: 1 | B12: AARTHIKADEVI P | C12: 88 | D12: 25 | E12: 12 | F12: 23 | G12: 4 | H12: 2 | I12: 4 | J12: 9 | K12: 14 | L12: 4 | M12: 2 | N12: 9 | O12: 35 | P12: 10 | Q12: 5 | R12: 0 | S12: 35 | T12: 9 | U12: 1 | V12: 5
A13: 19 | B13: MOHAMED MUSTHAQ H | C13: 80 | D13: 22 | E13: 8 | F13: 30 | G13: 3 | H13: 1 | I13: 1 | J13: 13 | K13: 6 | L13: 2 | M13: 2 | N13: 11 | O13: 25 | P13: 7 | Q13: 3 | R13: 5 | S13: 46 | T13: 12 | U13: 2 | V13: 1
A14: 24 | B14: RAGAVI D | C14: 71 | D14: 23 | E14: 21 | F14: 16 | G14: -6 | H14: 0 | I14: 6 | J14: 9 | K14: -3 | L14: 1 | M14: 7 | N14: 7 | O14: 40 | P14: 11 | Q14: 4 | R14: 0 | S14: 40 | T14: 11 | U14: 4 | V14: 0
... A17: 25 | B17: RAGAVI N | C17: 38 | D17: 16 | E17: 26 | F17: 18 | G17: 13 | H17: 5 | I17: 7 | J17: 3 | K17: -2 | L17: 1 | M17: 6 | N17: 8 | O17: 6 | P17: 3 | Q17: 6 | R17: 6 | S17: 21 | T17: 7 | U17: 7 | V17: 1

Sheet DT-6 TM
A1: THOOTHUKUDI NEET REGIONAL CENTRE Daily Test - 6 TAMIL MEDIUM
A2: Roll No | B2: Name | C2: Total Marks | D2: Correct Answers | E2: Incorrect Answers | F2: Not attempted | G2: Physics | H2: Physics _Correct Answers | I2: Physics _Incorrect Answers | J2: Physics _Not attempted | K2: Botany | L2: Botany_Correct Answers | M2: Botany_Incorrect Answers | N2: Botany_Not attempted | O2: Zoology | P2: Zoology_Correct Answers | Q2: Zoology_Incorrect Answers | R2: Zoology_Not attempted
A3: 9 | B3: GOKULRAJ R | C3: 124 | D3: 33 | E3: 8 | F3: 4 | G3: 13 | H3: 5 | I3: 7 | J3: 3 | K3: 51 | L3: 13 | M3: 1 | N3: 1 | O3: 60 | P3: 15 | Q3: 0 | R3: 0
A4: 14 | B4: JANANI S | C4: 117 | D4: 31 | E4: 7 | F4: 7 | G4: 14 | H4: 5 | I4: 6 | J4: 4 | K4: 43 | L4: 11 | M4: 1 | N4: 3 | O4: 60 | P4: 15 | Q4: 0 | R4: 0
A5: 27 | B5: SABARISRIRAM I | C5: 116 | D5: 31 | E5: 8 | F5: 6 | G5: 20 | H5: 6 | I5: 4 | J5: 5 | K5: 51 | L5: 13 | M5: 1 | N5: 1 | O5: 45 | P5: 12 | Q5: 3 | R5: 0
A6: 21 | B6: NAVEENAROSELIN A | C6: 115 | D6: 30 | E6: 5 | F6: 10 | G6: 3 | H6: 2 | I6: 5 | J6: 8 | K6: 56 | L6: 14 | M6: 0 | N6: 1 | O6: 56 | P6: 14 | Q6: 0 | R6: 1
A7: 5 | B7: DENIAL SAMSON S | C7: 111 | D7: 29 | E7: 5 | F7: 11 | G7: 22 | H7: 6 | I7: 2 | J7: 7 | K7: 47 | L7: 12 | M7: 1 | N7: 2 | O7: 42 | P7: 11 | Q7: 2 | R7: 2
A8: 18 | B8: MALATHI E | C8: 109 | D8: 29 | E8: 7 | F8: 9 | G8: 5 | H8: 3 | I8: 7 | J8: 5 | K8: 48 | L8: 12 | M8: 0 | N8: 3 | O8: 56 | P8: 14 | Q8: 0 | R8: 1
A9: 29 | B9: SATHYASRI K | C9: 109 | D9: 29 | E9: 7 | F9: 9 | G9: 5 | H9: 3 | I9: 7 | J9: 5 | K9: 48 | L9: 12 | M9: 0 | N9: 3 | O9: 56 | P9: 14 | Q9: 0 | R9: 1
A10: 30 | B10: SHALINI S | C10: 106 | D10: 30 | E10: 14 | F10: 1 | G10: 10 | H10: 5 | I10: 10 | J10: 0 | K10: 56 | L10: 14 | M10: 0 | N10: 1 | O10: 40 | P10: 11 | Q10: 4 | R10: 0
A11: 34 | B11: SURESH KUMAR B | C11: 90 | D11: 25 | E11: 10 | F11: 10 | G11: 12 | H11: 4 | I11: 4 | J11: 7 | K11: 28 | L11: 8 | M11: 4 | N11: 3 | O11: 50 | P11: 13 | Q11: 2 | R11: 0
A12: 17 | B12: KOUSIKA S | C12: 88 | D12: 25 | E12: 12 | F12: 8 | G12: 1 | H12: 2 | I12: 7 | J12: 6 | K12: 51 | L12: 13 | M12: 1 | N12: 1 | O12: 36 | P12: 10 | Q12: 4 | R12: 1
A13: 23 | B13: PAVIKAK | C13: 86 | D13: 24 | E13: 10 | F13: 11 | G13: 8 | H13: 3 | I13: 4 | J13: 8 | K13: 32 | L13: 9 | M13: 4 | N13: 2 | O13: 46 | P13: 12 | Q13: 2 | R13: 1
A14: 36 | B14: VIJAYSAKTHI B | C14: 84 | D14: 25 | E14: 16 | F14: 4 | G14: 4 | H14: 3 | I14: 8 | J14: 4 | K14: 55 | L14: 14 | M14: 1 | N14: 0 | O14: 25 | P14: 8 | Q14: 7 | R14: 0
... A20: 28 | B20: SARIGA J | C20: 67 | D20: 19 | E20: 9 | F20: 17 | G20: 6 | H20: 3 | I20: 6 | J20: 6 | K20: 27 | L20: 7 | M20: 1 | N20: 7 | O20: 34 | P20: 9 | Q20: 2 | R20: 4

Sheet DT-6 EM
A1: THOOTHUKUDI NEET REGIONAL CENTRE Daily Test - 6 ENGLISH MEDIUM
A2: Roll No | B2: Name | C2: Total Marks | D2: Correct Answers | E2: Incorrect Answers | F2: Not attempted | G2: Physics | H2: Physics _Correct Answers | I2: Physics _Incorrect Answers | J2: Physics _Not attempted | K2: Botany | L2: Botany_Correct Answers | M2: Botany_Incorrect Answers | N2: Botany_Not attempted | O2: Zoology | P2: Zoology_Correct Answers | Q2: Zoology_Incorrect Answers | R2: Zoology_Not attempted
A3: 19 | B3: MOHAMED MUSTHAQ H | C3: 69 | D3: 19 | E3: 7 | F3: 19 | G3: -7 | H3: 0 | I3: 7 | J3: 8 | K3: 24 | L3: 6 | M3: 0 | N3: 9 | O3: 52 | P3: 13 | Q3: 0 | R3: 2
A4: 15 | B4: KANNAN M | C4: 71 | D4: 20 | E4: 9 | F4: 16 | G4: 2 | H4: 2 | I4: 6 | J4: 7 | K4: 31 | L4: 8 | M4: 1 | N4: 6 | O4: 38 | P4: 10 | Q4: 2 | R4: 3
A5: 31 | B5: SIMEON PRAY JAMES H | C5: 108 | D5: 29 | E5: 8 | F5: 8 | G5: 16 | H5: 5 | I5: 4 | J5: 6 | K5: 46 | L5: 12 | M5: 2 | N5: 1 | O5: 46 | P5: 12 | Q5: 2 | R5: 1
A6: 26 | B6: RINO V | C6: 105 | D6: 27 | E6: 3 | F6: 15 | G6: 10 | H6: 3 | I6: 2 | J6: 10 | K6: 44 | L6: 11 | M6: 0 | N6: 4 | O6: 51 | P6: 13 | Q6: 1 | R6: 1
A7: 35 | B7: VARSHASRI L | C7: 102 | D7: 27 | E7: 6 | F7: 12 | G7: 7 | H7: 3 | I7: 5 | J7: 7 | K7: 47 | L7: 12 | M7: 1 | N7: 2 | O7: 48 | P7: 12 | Q7: 0 | R7: 3
A8: 1 | B8: AARTHIKADEVI P | C8: 113 | D8: 30 | E8: 7 | F8: 8 | G8: 8 | H8: 3 | I8: 4 | J8: 8 | K8: 50 | L8: 13 | M8: 2 | N8: 0 | O8: 55 | P8: 14 | Q8: 1 | R8: 0
A9: 3 | B9: ANTRORIJOWIN | C9: 124 | D9: 32 | E9: 4 | F9: 9 | G9: 26 | H9: 7 | I9: 2 | J9: 6 | K9: 56 | L9: 14 | M9: 0 | N9: 1 | O9: 42 | P9: 11 | Q9: 2 | R9: 2
A10: 20 | B10: MUTHU LAKSHMI G | C10: 101 | D10: 26 | E10: 3 | F10: 16 | G10: 27 | H10: 7 | I10: 1 | J10: 7 | K10: 44 | L10: 11 | M10: 0 | N10: 4 | O10: 30 | P10: 8 | Q10: 2 | R10: 5
A11: 10 | B11: GOWSALYA N | C11: 79 | D11: 23 | E11: 13 | F11: 9 | G11: 2 | H11: 2 | I11: 6 | J11: 7 | K11: 46 | L11: 12 | M11: 2 | N11: 1 | O11: 31 | P11: 9 | Q11: 5 | R11: 1
A12: 24 | B12: RAGAVI D | C12: 125 | D12: 32 | E12: 3 | F12: 10 | G12: 23 | H12: 6 | I12: 1 | J12: 8 | K12: 56 | L12: 14 | M12: 0 | N12: 1 | O12: 46 | P12: 12 | Q12: 2 | R12: 1
A13: 8 | B13: GANESH ABISHEIK V | C13: 79 | D13: 22 | E13: 9 | F13: 14 | G13: -1 | H13: 1 | I13: 5 | J13: 9 | K13: 51 | L13: 13 | M13: 1 | N13: 1 | O13: 29 | P13: 8 | Q13: 3 | R13: 4
A14: 4 | B14: ARULGANESH A | C14: 104 | D14: 27 | E14: 4 | F14: 14 | G14: 2 | H14: 1 | I14: 2 | J14: 12 | K14: 56 | L14: 14 | M14: 0 | N14: 1 | O14: 46 | P14: 12 | Q14: 2 | R14: 1
... A16: 16 | B16: KARTHICK AGIL I | C16: 73 | D16: 20 | E16: 7 | F16: 18 | G16: 13 | H16: 4 | I16: 3 | J16: 8 | K16: 27 | L16: 7 | M16: 1 | N16: 7 | O16: 33 | P16: 9 | Q16: 3 | R16: 3

Sheet DT-7 TM
A1: THOOTHUKUDI NEET REGIONAL CENTRE Daily Test - 7 TAMIL MEDIUM
A2: Roll No | B2: Name | C2: Total Marks | D2: Correct Answers | E2: Incorrect Answers | F2: Not attempted | G2: Physics | H2: Physics _Correct Answers | I2: Physics _Incorrect Answers | J2: Physics _Not attempted | K2: Botany | L2: Botany_Correct Answers | M2: Botany_Incorrect Answers | N2: Botany_Not attempted | O2: Zoology | P2: Zoology_Correct Answers | Q2: Zoology_Incorrect Answers | R2: Zoology_Not attempted
A3: 30 | B3: SHALINI S | C3: 116 | D3: 31 | E3: 8 | F3: 6 | G3: 26 | H3: 7 | I3: 2 | J3: 6 | K3: 50 | L3: 13 | M3: 2 | N3: 0 | O3: 40 | P3: 11 | Q3: 4 | R3: 0
A4: 14 | B4: JANANI S | C4: 111 | D4: 30 | E4: 9 | F4: 6 | G4: 25 | H4: 7 | I4: 3 | J4: 5 | K4: 50 | L4: 13 | M4: 2 | N4: 0 | O4: 36 | P4: 10 | Q4: 4 | R4: 1
A5: 29 | B5: SATHYASRI K | C5: 107 | D5: 29 | E5: 9 | F5: 7 | G5: 21 | H5: 6 | I5: 3 | J5: 6 | K5: 50 | L5: 13 | M5: 2 | N5: 0 | O5: 36 | P5: 10 | Q5: 4 | R5: 1
A6: 23 | B6: PAVIKAK | C6: 90 | D6: 25 | E6: 10 | F6: 10 | G6: 16 | H6: 5 | I6: 4 | J6: 6 | K6: 46 | L6: 12 | M6: 2 | N6: 1 | O6: 28 | P6: 8 | Q6: 4 | R6: 3
A7: 17 | B7: KOUSIKA S | C7: 90 | D7: 26 | E7: 14 | F7: 5 | G7: 25 | H7: 7 | I7: 3 | J7: 5 | K7: 40 | L7: 11 | M7: 4 | N7: 0 | O7: 25 | P7: 8 | Q7: 7 | R7: 0
A8: 28 | B8: SARIGA J | C8: 89 | D8: 25 | E8: 11 | F8: 9 | G8: 17 | H8: 5 | I8: 3 | J8: 7 | K8: 42 | L8: 11 | M8: 2 | N8: 2 | O8: 30 | P8: 9 | Q8: 6 | R8: 0
A9: 18 | B9: MALATHI E | C9: 82 | D9: 23 | E9: 10 | F9: 12 | G9: 12 | H9: 4 | I9: 4 | J9: 7 | K9: 37 | L9: 10 | M9: 3 | N9: 2 | O9: 33 | P9: 9 | Q9: 3 | R9: 3
A10: 21 | B10: NAVEENAROSELIN A | C10: 81 | D10: 23 | E10: 11 | F10: 11 | G10: 9 | H10: 3 | I10: 3 | J10: 9 | K10: 50 | L10: 13 | M10: 2 | N10: 0 | O10: 22 | P10: 7 | Q10: 6 | R10: 2
A11: 9 | B11: GOKULRAJ R | C11: 81 | D11: 24 | E11: 15 | F11: 6 | G11: 1 | H11: 2 | I11: 7 | J11: 6 | K11: 55 | L11: 14 | M11: 1 | N11: 0 | O11: 25 | P11: 8 | Q11: 7 | R11: 0
A12: 34 | B12: SURESH KUMAR B | C12: 76 | D12: 22 | E12: 12 | F12: 11 | G12: 9 | H12: 3 | I12: 3 | J12: 9 | K12: 41 | L12: 11 | M12: 3 | N12: 1 | O12: 26 | P12: 8 | Q12: 6 | R12: 1
A13: 27 | B13: SABARISRIRAM I | C13: 74 | D13: 23 | E13: 18 | F13: 4 | G13: 4 | H13: 3 | I13: 8 | J13: 4 | K13: 45 | L13: 12 | M13: 3 | N13: 0 | O13: 25 | P13: 8 | Q13: 7 | R13: 0
A14: 7 | B14: ELANGOVAN K | C14: 73 | D14: 23 | E14: 19 | F14: 3 | G14: 8 | H14: 4 | I14: 8 | J14: 3 | K14: 45 | L14: 12 | M14: 3 | N14: 0 | O14: 20 | P14: 7 | Q14: 8 | R14: 0
... A21: 5 | B21: DENIAL SAMSON S | C21: 37 | D21: 12 | E21: 11 | F21: 22 | G21: 20 | H21: 6 | I21: 4 | J21: 5 | K21: 15 | L21: 5 | M21: 5 | N21: 5 | O21: 2 | P21: 1 | Q21: 2 | R21: 12

Sheet  DT-8 TM
A1: THOOTHUKUDI NEET REGIONAL CENTRE Daily Test - 8 TAMIL MEDIUM
A2: Roll No | B2: Name | C2: Total Marks | D2: Correct Answers | E2: Incorrect Answers | F2: Not attempted | G2: Physics | H2: Physics _Correct Answers | I2: Physics _Incorrect Answers | J2: Physics _Not attempted | K2: Botany | L2: Botany_Correct Answers | M2: Botany_Incorrect Answers | N2: Botany_Not attempted | O2: Zoology | P2: Zoology_Correct Answers | Q2: Zoology_Incorrect Answers | R2: Zoology_Not attempted
A3: 30 | B3: SHALINI S | C3: 108 | D3: 29 | E3: 8 | F3: 8 | G3: 35 | H3: 9 | I3: 1 | J3: 5 | K3: 28 | L3: 8 | M3: 4 | N3: 3 | O3: 45 | P3: 12 | Q3: 3 | R3: 0
A4: 9 | B4: GOKULRAJ R | C4: 104 | D4: 29 | E4: 12 | F4: 4 | G4: 23 | H4: 7 | I4: 5 | J4: 3 | K4: 36 | L4: 10 | M4: 4 | N4: 1 | O4: 45 | P4: 12 | Q4: 3 | R4: 0
A5: 14 | B5: JANANI S | C5: 98 | D5: 27 | E5: 10 | F5: 8 | G5: 30 | H5: 8 | I5: 2 | J5: 5 | K5: 38 | L5: 10 | M5: 2 | N5: 3 | O5: 30 | P5: 9 | Q5: 6 | R5: 0
A6: 23 | B6: PAVIKAK | C6: 97 | D6: 26 | E6: 7 | F6: 12 | G6: 31 | H6: 8 | I6: 1 | J6: 6 | K6: 37 | L6: 10 | M6: 3 | N6: 2 | O6: 29 | P6: 8 | Q6: 3 | R6: 4
A7: 11 | B7: GOWSHIK G | C7: 89 | D7: 24 | E7: 7 | F7: 14 | G7: 22 | H7: 6 | I7: 2 | J7: 7 | K7: 30 | L7: 8 | M7: 2 | N7: 5 | O7: 37 | P7: 10 | Q7: 3 | R7: 2
A8: 29 | B8: SATHYASRI K | C8: 88 | D8: 25 | E8: 12 | F8: 8 | G8: 16 | H8: 5 | I8: 4 | J8: 6 | K8: 37 | L8: 10 | M8: 3 | N8: 2 | O8: 35 | P8: 10 | Q8: 5 | R8: 0
A9: 27 | B9: SABARISRIRAM I | C9: 86 | D9: 25 | E9: 14 | F9: 6 | G9: 21 | H9: 6 | I9: 3 | J9: 6 | K9: 30 | L9: 9 | M9: 6 | N9: 0 | O9: 35 | P9: 10 | Q9: 5 | R9: 0
A10: 12 | B10: HARIPRASATH J | C10: 85 | D10: 23 | E10: 7 | F10: 15 | G10: 18 | H10: 5 | I10: 2 | J10: 8 | K10: 30 | L10: 8 | M10: 2 | N10: 5 | O10: 37 | P10: 10 | Q10: 3 | R10: 2
A11: 28 | B11: SARIGA J | C11: 82 | D11: 23 | E11: 10 | F11: 12 | G11: 27 | H11: 7 | I11: 1 | J11: 7 | K11: 24 | L11: 7 | M11: 4 | N11: 4 | O11: 31 | P11: 9 | Q11: 5 | R11: 1
A12: 33 | B12: SUJITH A | C12: 82 | D12: 23 | E12: 10 | F12: 12 | G12: 17 | H12: 5 | I12: 3 | J12: 7 | K12: 25 | L12: 7 | M12: 3 | N12: 5 | O12: 40 | P12: 11 | Q12: 4 | R12: 0
A13: 21 | B13: NAVEENAROSELIN A | C13: 79 | D13: 22 | E13: 9 | F13: 14 | G13: 27 | H13: 7 | I13: 1 | J13: 7 | K13: 15 | L13: 5 | M13: 5 | N13: 5 | O13: 37 | P13: 10 | Q13: 3 | R13: 2
A14: 18 | B14: MALATHI E | C14: 79 | D14: 22 | E14: 9 | F14: 14 | G14: 15 | H14: 5 | I14: 5 | J14: 5 | K14: 35 | L14: 9 | M14: 1 | N14: 5 | O14: 29 | P14: 8 | Q14: 3 | R14: 4
... A21: 5 | B21: DENIAL SAMSON S | C21: 49 | D21: 14 | E21: 7 | F21: 24 | G21: 21 | H21: 6 | I21: 3 | J21: 6 | K21: 0 | L21: 0 | M21: 0 | N21: 15 | O21: 28 | P21: 8 | Q21: 4 | R21: 3

Sheet DT-7 EM
A1: THOOTHUKUDI NEET REGIONAL CENTRE Daily Test - 7 ENGLISH MEDIUM
A2: Roll No | B2: Name | C2: Total Marks | D2: Correct Answers | E2: Incorrect Answers | F2: Not attempted | G2: Physics | H2: Physics _Correct Answers | I2: Physics _Incorrect Answers | J2: Physics _Not attempted | K2: Botany | L2: Botany_Correct Answers | M2: Botany_Incorrect Answers | N2: Botany_Not attempted | O2: Zoology | P2: Zoology_Correct Answers | Q2: Zoology_Incorrect Answers | R2: Zoology_Not attempted
A3: 35 | B3: VARSHASRI L | C3: 122 | D3: 32 | E3: 6 | F3: 7 | G3: 27 | H3: 7 | I3: 1 | J3: 7 | K3: 45 | L3: 12 | M3: 3 | N3: 0 | O3: 50 | P3: 13 | Q3: 2 | R3: 0
A4: 3 | B4: ANTRORIJOWIN | C4: 121 | D4: 32 | E4: 7 | F4: 6 | G4: 21 | H4: 6 | I4: 3 | J4: 6 | K4: 50 | L4: 13 | M4: 2 | N4: 0 | O4: 50 | P4: 13 | Q4: 2 | R4: 0
A5: 20 | B5: MUTHU LAKSHMI G | C5: 107 | D5: 28 | E5: 5 | F5: 12 | G5: 26 | H5: 7 | I5: 2 | J5: 6 | K5: 38 | L5: 10 | M5: 2 | N5: 3 | O5: 43 | P5: 11 | Q5: 1 | R5: 3
A6: 24 | B6: RAGAVI D | C6: 87 | D6: 25 | E6: 13 | F6: 7 | G6: 17 | H6: 5 | I6: 3 | J6: 7 | K6: 50 | L6: 13 | M6: 2 | N6: 0 | O6: 20 | P6: 7 | Q6: 8 | R6: 0
A7: 1 | B7: AARTHIKADEVI P | C7: 82 | D7: 24 | E7: 14 | F7: 7 | G7: 7 | H7: 3 | I7: 5 | J7: 7 | K7: 45 | L7: 12 | M7: 3 | N7: 0 | O7: 30 | P7: 9 | Q7: 6 | R7: 0
A8: 26 | B8: RINO V | C8: 79 | D8: 22 | E8: 9 | F8: 14 | G8: 10 | H8: 3 | I8: 2 | J8: 10 | K8: 51 | L8: 13 | M8: 1 | N8: 1 | O8: 18 | P8: 6 | Q8: 6 | R8: 3
A9: 32 | B9: SREEJESH M | C9: 77 | D9: 22 | E9: 11 | F9: 12 | G9: 6 | H9: 2 | I9: 2 | J9: 11 | K9: 46 | L9: 12 | M9: 2 | N9: 1 | O9: 25 | P9: 8 | Q9: 7 | R9: 0
A10: 4 | B10: ARULGANESH A | C10: 76 | D10: 21 | E10: 8 | F10: 16 | G10: 3 | H10: 1 | I10: 1 | J10: 13 | K10: 51 | L10: 13 | M10: 1 | N10: 1 | O10: 22 | P10: 7 | Q10: 6 | R10: 2
A11: 19 | B11: MOHAMED MUSTHAQ H | C11: 76 | D11: 21 | E11: 8 | F11: 16 | G11: 11 | H11: 3 | I11: 1 | J11: 11 | K11: 42 | L11: 11 | M11: 2 | N11: 2 | O11: 23 | P11: 7 | Q11: 5 | R11: 3
A12: 15 | B12: KANNAN M | C12: 71 | D12: 22 | E12: 17 | F12: 6 | G12: 1 | H12: 2 | I12: 7 | J12: 6 | K12: 40 | L12: 11 | M12: 4 | N12: 0 | O12: 30 | P12: 9 | Q12: 6 | R12: 0
A13: 10 | B13: GOWSALYA N | C13: 68 | D13: 21 | E13: 16 | F13: 8 | G13: -3 | H13: 1 | I13: 7 | J13: 7 | K13: 45 | L13: 12 | M13: 3 | N13: 0 | O13: 26 | P13: 8 | Q13: 6 | R13: 1
A14: 16 | B14: KARTHICK AGIL I | C14: 64 | D14: 19 | E14: 12 | F14: 14 | G14: -6 | H14: 0 | I14: 6 | J14: 9 | K14: 47 | L14: 12 | M14: 1 | N14: 2 | O14: 23 | P14: 7 | Q14: 5 | R14: 3
A15: 31 | B15: SIMEON PRAY JAMES H | C15: 52 | D15: 18 | E15: 20 | F15: 7 | G15: 6 | H15: 3 | I15: 6 | J15: 6 | K15: 35 | L15: 10 | M15: 5 | N15: 0 | O15: 11 | P15: 5 | Q15: 9 | R15: 1

Sheet  DT-8 EM
A1: THOOTHUKUDI NEET REGIONAL CENTRE Daily Test - 8 ENGLISH MEDIUM
A2: Roll No | B2: Name | C2: Total Marks | D2: Correct Answers | E2: Incorrect Answers | F2: Not attempted | G2: Physics | H2: Physics _Correct Answers | I2: Physics _Incorrect Answers | J2: Physics _Not attempted | K2: Botany | L2: Botany_Correct Answers | M2: Botany_Incorrect Answers | N2: Botany_Not attempted | O2: Zoology | P2: Zoology_Correct Answers | Q2: Zoology_Incorrect Answers | R2: Zoology_Not attempted
A3: 20 | B3: MUTHU LAKSHMI G | C3: 95 | D3: 26 | E3: 9 | F3: 10 | G3: 31 | H3: 8 | I3: 1 | J3: 6 | K3: 37 | L3: 10 | M3: 3 | N3: 2 | O3: 27 | P3: 8 | Q3: 5 | R3: 2
A4: 35 | B4: VARSHASRI L | C4: 94 | D4: 26 | E4: 10 | F4: 9 | G4: 25 | H4: 7 | I4: 3 | J4: 5 | K4: 38 | L4: 10 | M4: 2 | N4: 3 | O4: 31 | P4: 9 | Q4: 5 | R4: 1
A5: 1 | B5: AARTHIKADEVI P | C5: 94 | D5: 27 | E5: 14 | F5: 4 | G5: 29 | H5: 8 | I5: 3 | J5: 4 | K5: 45 | L5: 12 | M5: 3 | N5: 0 | O5: 20 | P5: 7 | Q5: 8 | R5: 0
A6: 3 | B6: ANTRORIJOWIN | C6: 91 | D6: 26 | E6: 13 | F6: 6 | G6: 15 | H6: 5 | I6: 5 | J6: 5 | K6: 45 | L6: 12 | M6: 3 | N6: 0 | O6: 31 | P6: 9 | Q6: 5 | R6: 1
A7: 15 | B7: KANNAN M | C7: 91 | D7: 26 | E7: 13 | F7: 6 | G7: 15 | H7: 5 | I7: 5 | J7: 5 | K7: 36 | L7: 10 | M7: 4 | N7: 1 | O7: 40 | P7: 11 | Q7: 4 | R7: 0
A8: 16 | B8: KARTHICK AGIL I | C8: 86 | D8: 23 | E8: 6 | F8: 16 | G8: 23 | H8: 6 | I8: 1 | J8: 8 | K8: 17 | L8: 5 | M8: 3 | N8: 7 | O8: 46 | P8: 12 | Q8: 2 | R8: 1
A9: 32 | B9: SREEJESH M | C9: 78 | D9: 21 | E9: 6 | F9: 18 | G9: 7 | H9: 2 | I9: 1 | J9: 12 | K9: 31 | L9: 8 | M9: 1 | N9: 6 | O9: 40 | P9: 11 | Q9: 4 | R9: 0
A10: 31 | B10: SIMEON PRAY JAMES H | C10: 75 | D10: 22 | E10: 13 | F10: 10 | G10: 4 | H10: 3 | I10: 8 | J10: 4 | K10: 30 | L10: 8 | M10: 2 | N10: 5 | O10: 41 | P10: 11 | Q10: 3 | R10: 1
A11: 10 | B11: GOWSALYA N | C11: 69 | D11: 21 | E11: 15 | F11: 9 | G11: 6 | H11: 3 | I11: 6 | J11: 6 | K11: 37 | L11: 10 | M11: 3 | N11: 2 | O11: 26 | P11: 8 | Q11: 6 | R11: 1
A12: 24 | B12: RAGAVI D | C12: 69 | D12: 21 | E12: 15 | F12: 9 | G12: 25 | H12: 7 | I12: 3 | J12: 5 | K12: 27 | L12: 8 | M12: 5 | N12: 2 | O12: 17 | P12: 6 | Q12: 7 | R12: 2
A13: 4 | B13: ARULGANESH A | C13: 67 | D13: 20 | E13: 13 | F13: 12 | G13: 9 | H13: 3 | I13: 3 | J13: 9 | K13: 28 | L13: 8 | M13: 4 | N13: 3 | O13: 30 | P13: 9 | Q13: 6 | R13: 0
A14: 26 | B14: RINO V | C14: 66 | D14: 19 | E14: 10 | F14: 16 | G14: 19 | H14: 5 | I14: 1 | J14: 9 | K14: 23 | L14: 7 | M14: 5 | N14: 3 | O14: 24 | P14: 7 | Q14: 4 | R14: 4
A15: 19 | B15: MOHAMED MUSTHAQ H | C15: 60 | D15: 17 | E15: 8 | F15: 20 | G15: 15 | H15: 4 | I15: 1 | J15: 10 | K15: 25 | L15: 7 | M15: 3 | N15: 5 | O15: 20 | P15: 6 | Q15: 4 | R15: 5

Sheet DT-9 EM
A1: THOOTHUKUDI NEET REGIONAL CENTRE Daily Test - 9 ENGLISH MEDIUM
A2: Roll No | B2: Name | C2: Total Marks | D2: Correct Answers | E2: Incorrect Answers | F2: Not attempted | G2: Physics | H2: Physics _Correct Answers | I2: Physics _Incorrect Answers | J2: Physics _Not attempted | K2: Botany | L2: Botany_Correct Answers | M2: Botany_Incorrect Answers | N2: Botany_Not attempted | O2: Zoology | P2: Zoology_Correct Answers | Q2: Zoology_Incorrect Answers | R2: Zoology_Not attempted
A3: 24 | B3: RAGAVI D | C3: 109 | D3: 29 | E3: 7 | F3: 9 | G3: 26 | H3: 7 | I3: 2 | J3: 6 | K3: 36 | L3: 10 | M3: 4 | N3: 1 | O3: 47 | P3: 12 | Q3: 1 | R3: 2
A4: 20 | B4: MUTHU LAKSHMI G | C4: 89 | D4: 24 | E4: 7 | F4: 14 | G4: 36 | H4: 9 | I4: 0 | J4: 6 | K4: 15 | L4: 5 | M4: 5 | N4: 5 | O4: 38 | P4: 10 | Q4: 2 | R4: 3
A5: 31 | B5: SIMEON PRAY JAMES H | C5: 87 | D5: 24 | E5: 9 | F5: 12 | G5: 20 | H5: 6 | I5: 4 | J5: 5 | K5: 28 | L5: 8 | M5: 4 | N5: 3 | O5: 39 | P5: 10 | Q5: 1 | R5: 4
A6: 1 | B6: AARTHIKADEVI P | C6: 84 | D6: 25 | E6: 16 | F6: 4 | G6: 9 | H6: 4 | I6: 7 | J6: 4 | K6: 35 | L6: 10 | M6: 5 | N6: 0 | O6: 40 | P6: 11 | Q6: 4 | R6: 0
A7: 35 | B7: VARSHASRI L | C7: 81 | D7: 23 | E7: 11 | F7: 11 | G7: 16 | H7: 5 | I7: 4 | J7: 6 | K7: 23 | L7: 7 | M7: 5 | N7: 3 | O7: 42 | P7: 11 | Q7: 2 | R7: 2
A8: 16 | B8: KARTHICK AGIL I | C8: 74 | D8: 20 | E8: 6 | F8: 19 | G8: 14 | H8: 4 | I8: 2 | J8: 9 | K8: 14 | L8: 4 | M8: 2 | N8: 9 | O8: 46 | P8: 12 | Q8: 2 | R8: 1
A9: 15 | B9: KANNAN M | C9: 73 | D9: 22 | E9: 15 | F9: 8 | G9: 5 | H9: 3 | I9: 7 | J9: 5 | K9: 23 | L9: 7 | M9: 5 | N9: 3 | O9: 45 | P9: 12 | Q9: 3 | R9: 0
A10: 3 | B10: ANTRORIJOWIN | C10: 72 | D10: 20 | E10: 8 | F10: 17 | G10: 18 | H10: 5 | I10: 2 | J10: 8 | K10: 12 | L10: 4 | M10: 4 | N10: 7 | O10: 42 | P10: 11 | Q10: 2 | R10: 2
A11: 4 | B11: ARULGANESH A | C11: 71 | D11: 20 | E11: 9 | F11: 16 | G11: 4 | H11: 2 | I11: 4 | J11: 9 | K11: 30 | L11: 8 | M11: 2 | N11: 5 | O11: 37 | P11: 10 | Q11: 3 | R11: 2
A12: 26 | B12: RINO V | C12: 68 | D12: 19 | E12: 8 | F12: 18 | G12: 19 | H12: 5 | I12: 1 | J12: 9 | K12: 19 | L12: 6 | M12: 5 | N12: 4 | O12: 30 | P12: 8 | Q12: 2 | R12: 5
A13: 32 | B13: SREEJESH M | C13: 53 | D13: 16 | E13: 11 | F13: 18 | G13: 2 | H13: 1 | I13: 2 | J13: 12 | K13: 20 | L13: 6 | M13: 4 | N13: 5 | O13: 31 | P13: 9 | Q13: 5 | R13: 1
A14: 10 | B14: GOWSALYA N | C14: 52 | D14: 17 | E14: 16 | F14: 12 | G14: -2 | H14: 1 | I14: 6 | J14: 8 | K14: 16 | L14: 6 | M14: 8 | N14: 1 | O14: 38 | P14: 10 | Q14: 2 | R14: 3
A15: 19 | B15: MOHAMED MUSTHAQ H | C15: 45 | D15: 14 | E15: 11 | F15: 20 | G15: 11 | H15: 3 | I15: 1 | J15: 11 | K15: 10 | L15: 4 | M15: 6 | N15: 5 | O15: 24 | P15: 7 | Q15: 4 | R15: 4

Sheet DT- 9 TM
A1: THOOTHUKUDI NEET REGIONAL CENTRE Daily Test - 9 TAMIL MEDIUM
A2: Roll No | B2: Name | C2: Total Marks | D2: Correct Answers | E2: Incorrect Answers | F2: Not attempted | G2: Physics | H2: Physics _Correct Answers | I2: Physics _Incorrect Answers | J2: Physics _Not attempted | K2: Botany | L2: Botany_Correct Answers | M2: Botany_Incorrect Answers | N2: Botany_Not attempted | O2: Zoology | P2: Zoology_Correct Answers | Q2: Zoology_Incorrect Answers | R2: Zoology_Not attempted
A3: 14 | B3: JANANI S | C3: 89 | D3: 25 | E3: 11 | F3: 9 | G3: 12 | H3: 4 | I3: 4 | J3: 7 | K3: 31 | L3: 9 | M3: 5 | N3: 1 | O3: 46 | P3: 12 | Q3: 2 | R3: 1
A4: 27 | B4: SABARISRIRAM I | C4: 88 | D4: 25 | E4: 12 | F4: 8 | G4: 18 | H4: 5 | I4: 2 | J4: 8 | K4: 30 | L4: 9 | M4: 6 | N4: 0 | O4: 40 | P4: 11 | Q4: 4 | R4: 0
A5: 28 | B5: SARIGA J | C5: 85 | D5: 23 | E5: 7 | F5: 15 | G5: 24 | H5: 6 | I5: 0 | J5: 9 | K5: 23 | L5: 7 | M5: 5 | N5: 3 | O5: 38 | P5: 10 | Q5: 2 | R5: 3
A6: 21 | B6: NAVEENAROSELIN A | C6: 84 | D6: 23 | E6: 8 | F6: 14 | G6: 17 | H6: 5 | I6: 3 | J6: 7 | K6: 20 | L6: 6 | M6: 4 | N6: 5 | O6: 47 | P6: 12 | Q6: 1 | R6: 2
A7: 34 | B7: SURESH KUMAR B | C7: 75 | D7: 22 | E7: 13 | F7: 10 | G7: 10 | H7: 4 | I7: 6 | J7: 5 | K7: 23 | L7: 7 | M7: 5 | N7: 3 | O7: 42 | P7: 11 | Q7: 2 | R7: 2
A8: 9 | B8: GOKULRAJ R | C8: 74 | D8: 22 | E8: 14 | F8: 9 | G8: 1 | H8: 2 | I8: 7 | J8: 6 | K8: 23 | L8: 7 | M8: 5 | N8: 3 | O8: 50 | P8: 13 | Q8: 2 | R8: 0
A9: 5 | B9: DENIAL SAMSON S | C9: 72 | D9: 20 | E9: 8 | F9: 17 | G9: 14 | H9: 4 | I9: 2 | J9: 9 | K9: 24 | L9: 7 | M9: 4 | N9: 4 | O9: 34 | P9: 9 | Q9: 2 | R9: 4
A10: 7 | B10: ELANGOVAN K | C10: 71 | D10: 22 | E10: 17 | F10: 6 | G10: 15 | H10: 5 | I10: 5 | J10: 5 | K10: 15 | L10: 6 | M10: 9 | N10: 0 | O10: 41 | P10: 11 | Q10: 3 | R10: 1
A11: 30 | B11: SHALINI S | C11: 69 | D11: 21 | E11: 15 | F11: 9 | G11: 29 | H11: 8 | I11: 3 | J11: 4 | K11: 13 | L11: 5 | M11: 7 | N11: 3 | O11: 27 | P11: 8 | Q11: 5 | R11: 2
A12: 11 | B12: GOWSHIK G | C12: 68 | D12: 18 | E12: 4 | F12: 23 | G12: 15 | H12: 4 | I12: 1 | J12: 10 | K12: 19 | L12: 5 | M12: 1 | N12: 9 | O12: 34 | P12: 9 | Q12: 2 | R12: 4
A13: 36 | B13: VIJAYSAKTHI B | C13: 67 | D13: 21 | E13: 17 | F13: 7 | G13: 11 | H13: 4 | I13: 5 | J13: 6 | K13: 20 | L13: 7 | M13: 8 | N13: 0 | O13: 36 | P13: 10 | Q13: 4 | R13: 1
A14: 18 | B14: MALATHI E | C14: 65 | D14: 19 | E14: 11 | F14: 15 | G14: 8 | H14: 3 | I14: 4 | J14: 8 | K14: 25 | L14: 7 | M14: 3 | N14: 5 | O14: 32 | P14: 9 | Q14: 4 | R14: 2
... A20: 22 | B20: NEEDHIRAJAN V | C20: 42 | D20: 15 | E20: 18 | F20: 12 | G20: 16 | H20: 5 | I20: 4 | J20: 6 | K20: 3 | L20: 3 | M20: 9 | N20: 3 | O20: 23 | P20: 7 | Q20: 5 | R20: 3

Sheet  DT-10 EM
A1: THOOTHUKUDI NEET REGIONAL CENTRE Daily Test - 10 ENGLISH MEDIUM
A2: Roll No | B2: Name | C2: Total Marks | D2: Correct Answers | E2: Incorrect Answers | F2: Not attempted | G2: Physics | H2: Physics _Correct Answers | I2: Physics _Incorrect Answers | J2: Physics _Not attempted | K2: Chemistry | L2: Chemistry_Correct Answers | M2: Chemistry_Incorrect Answers | N2: Chemistry_Not attempted | O2: Botany | P2: Botany_Correct Answers | Q2: Botany_Incorrect Answers | R2: Botany_Not attempted | S2: Zoology | T2: Zoology_Correct Answers | U2: Zoology_Incorrect Answers | V2: Zoology_Not attempted
A3: 15 | B3: KANNAN M | C3: 90 | D3: 27 | E3: 18 | F3: 15 | G3: 4 | H3: 2 | I3: 4 | J3: 9 | K3: 0 | L3: 2 | M3: 8 | N3: 5 | O3: 40 | P3: 11 | Q3: 4 | R3: 0 | S3: 46 | T3: 12 | U3: 2 | V3: 1
A4: 19 | B4: MOHAMED MUSTHAQ H | C4: 87 | D4: 24 | E4: 9 | F4: 27 | G4: 1 | H4: 1 | I4: 3 | J4: 11 | K4: 8 | L4: 3 | M4: 4 | N4: 8 | O4: 39 | P4: 10 | Q4: 1 | R4: 4 | S4: 39 | T4: 10 | U4: 1 | V4: 4
A5: 10 | B5: GOWSALYA N | C5: 84 | D5: 25 | E5: 16 | F5: 19 | G5: -5 | H5: 0 | I5: 5 | J5: 10 | K5: -4 | L5: 1 | M5: 8 | N5: 6 | O5: 48 | P5: 12 | Q5: 0 | R5: 3 | S5: 45 | T5: 12 | U5: 3 | V5: 0
A6: 24 | B6: RAGAVI D | C6: 78 | D6: 24 | E6: 18 | F6: 18 | G6: 4 | H6: 2 | I6: 4 | J6: 9 | K6: 2 | L6: 2 | M6: 6 | N6: 7 | O6: 27 | P6: 8 | Q6: 5 | R6: 2 | S6: 45 | T6: 12 | U6: 3 | V6: 0
A7: 31 | B7: SIMEON PRAY JAMES H | C7: 77 | D7: 24 | E7: 19 | F7: 17 | G7: 8 | H7: 3 | I7: 4 | J7: 8 | K7: 4 | L7: 3 | M7: 8 | N7: 4 | O7: 30 | P7: 8 | Q7: 2 | R7: 5 | S7: 35 | T7: 10 | U7: 5 | V7: 0
A8: 8 | B8: GANESH ABISHEIK V | C8: 73 | D8: 22 | E8: 15 | F8: 23 | G8: 0 | H8: 1 | I8: 4 | J8: 10 | K8: 3 | L8: 2 | M8: 5 | N8: 8 | O8: 35 | P8: 9 | Q8: 1 | R8: 5 | S8: 35 | T8: 10 | U8: 5 | V8: 0
A9: 35 | B9: VARSHASRI L | C9: 70 | D9: 22 | E9: 18 | F9: 20 | G9: 1 | H9: 1 | I9: 3 | J9: 11 | K9: -9 | L9: 0 | M9: 9 | N9: 6 | O9: 28 | P9: 8 | Q9: 4 | R9: 3 | S9: 50 | T9: 13 | U9: 2 | V9: 0
A10: 32 | B10: SREEJESH M | C10: 69 | D10: 19 | E10: 7 | F10: 34 | G10: -1 | H10: 0 | I10: 1 | J10: 14 | K10: 18 | L10: 5 | M10: 2 | N10: 8 | O10: 25 | P10: 7 | Q10: 3 | R10: 5 | S10: 27 | T10: 7 | U10: 1 | V10: 7
A11: 1 | B11: AARTHIKADEVI P | C11: 68 | D11: 23 | E11: 24 | F11: 13 | G11: -5 | H11: 0 | I11: 5 | J11: 10 | K11: 3 | L11: 3 | M11: 9 | N11: 3 | O11: 25 | P11: 8 | Q11: 7 | R11: 0 | S11: 45 | T11: 12 | U11: 3 | V11: 0
A12: 3 | B12: ANTRORIJOWIN | C12: 65 | D12: 21 | E12: 19 | F12: 20 | G12: 6 | H12: 2 | I12: 2 | J12: 11 | K12: -9 | L12: 0 | M12: 9 | N12: 6 | O12: 27 | P12: 8 | Q12: 5 | R12: 2 | S12: 41 | T12: 11 | U12: 3 | V12: 1
A13: 4 | B13: ARULGANESH A | C13: 62 | D13: 19 | E13: 14 | F13: 27 | G13: -1 | H13: 0 | I13: 1 | J13: 14 | K13: -3 | L13: 1 | M13: 7 | N13: 7 | O13: 21 | P13: 6 | Q13: 3 | R13: 6 | S13: 45 | T13: 12 | U13: 3 | V13: 0
A14: 16 | B14: KARTHICK AGIL I | C14: 56 | D14: 16 | E14: 8 | F14: 36 | G14: -2 | H14: 0 | I14: 2 | J14: 13 | K14: -1 | L14: 1 | M14: 5 | N14: 9 | O14: 35 | P14: 9 | Q14: 1 | R14: 5 | S14: 24 | T14: 6 | U14: 0 | V14: 9
... A16: 26 | B16: RINO V | C16: 43 | D16: 15 | E16: 17 | F16: 28 | G16: -3 | H16: 0 | I16: 3 | J16: 12 | K16: -1 | L16: 1 | M16: 5 | N16: 9 | O16: 26 | P16: 7 | Q16: 2 | R16: 6 | S16: 21 | T16: 7 | U16: 7 | V16: 1

Sheet  DT- 10TM
A1: THOOTHUKUDI NEET REGIONAL CENTRE Daily Test - 10 TAMIL MEDIUM
A2: Roll No | B2: Name | C2: Total Marks | D2: Correct Answers | E2: Incorrect Answers | F2: Not attempted | G2: Physics | H2: Physics _Correct Answers | I2: Physics _Incorrect Answers | J2: Physics _Not attempted | K2: Chemistry | L2: Chemistry_Correct Answers | M2: Chemistry_Incorrect Answers | N2: Chemistry_Not attempted | O2: Botany | P2: Botany_Correct Answers | Q2: Botany_Incorrect Answers | R2: Botany_Not attempted | S2: Zoology | T2: Zoology_Correct Answers | U2: Zoology_Incorrect Answers | V2: Zoology_Not attempted
A3: 17 | B3: KOUSIKA S | C3: 148 | D3: 40 | E3: 12 | F3: 8 | G3: 48 | H3: 12 | I3: 0 | J3: 3 | K3: 13 | L3: 5 | M3: 7 | N3: 3 | O3: 32 | P3: 9 | Q3: 4 | R3: 2 | S3: 55 | T3: 14 | U3: 1 | V3: 0
A4: 30 | B4: SHALINI S | C4: 137 | D4: 37 | E4: 11 | F4: 12 | G4: 39 | H4: 10 | I4: 1 | J4: 4 | K4: 0 | L4: 2 | M4: 8 | N4: 5 | O4: 48 | P4: 12 | Q4: 0 | R4: 3 | S4: 50 | T4: 13 | U4: 2 | V4: 0
A5: 7 | B5: ELANGOVAN K | C5: 132 | D5: 37 | E5: 16 | F5: 7 | G5: 42 | H5: 11 | I5: 2 | J5: 2 | K5: 13 | L5: 5 | M5: 7 | N5: 3 | O5: 22 | P5: 7 | Q5: 6 | R5: 2 | S5: 55 | T5: 14 | U5: 1 | V5: 0
A6: 5 | B6: DENIAL SAMSON S | C6: 126 | D6: 36 | E6: 18 | F6: 6 | G6: 40 | H6: 11 | I6: 4 | J6: 0 | K6: 0 | L6: 2 | M6: 8 | N6: 5 | O6: 40 | P6: 11 | Q6: 4 | R6: 0 | S6: 46 | T6: 12 | U6: 2 | V6: 1
A7: 9 | B7: GOKULRAJ R | C7: 110 | D7: 31 | E7: 14 | F7: 15 | G7: 23 | H7: 6 | I7: 1 | J7: 8 | K7: 5 | L7: 3 | M7: 7 | N7: 5 | O7: 37 | P7: 10 | Q7: 3 | R7: 2 | S7: 45 | T7: 12 | U7: 3 | V7: 0
A8: 23 | B8: PAVIKAK | C8: 106 | D8: 30 | E8: 14 | F8: 16 | G8: 25 | H8: 7 | I8: 3 | J8: 5 | K8: 0 | L8: 2 | M8: 8 | N8: 5 | O8: 35 | P8: 9 | Q8: 1 | R8: 5 | S8: 46 | T8: 12 | U8: 2 | V8: 1
A9: 14 | B9: JANANI S | C9: 105 | D9: 31 | E9: 19 | F9: 10 | G9: 34 | H9: 9 | I9: 2 | J9: 4 | K9: -5 | L9: 1 | M9: 9 | N9: 5 | O9: 31 | P9: 9 | Q9: 5 | R9: 1 | S9: 45 | T9: 12 | U9: 3 | V9: 0
A10: 29 | B10: SATHYASRI K | C10: 104 | D10: 29 | E10: 12 | F10: 19 | G10: 35 | H10: 9 | I10: 1 | J10: 5 | K10: -4 | L10: 1 | M10: 8 | N10: 6 | O10: 30 | P10: 8 | Q10: 2 | R10: 5 | S10: 43 | T10: 11 | U10: 1 | V10: 3
A11: 28 | B11: SARIGA J | C11: 100 | D11: 28 | E11: 12 | F11: 20 | G11: 32 | H11: 8 | I11: 0 | J11: 7 | K11: 1 | L11: 2 | M11: 7 | N11: 6 | O11: 31 | P11: 8 | Q11: 1 | R11: 6 | S11: 36 | T11: 10 | U11: 4 | V11: 1
A12: 33 | B12: SUJITH A | C12: 100 | D12: 29 | E12: 16 | F12: 15 | G12: 28 | H12: 8 | I12: 4 | J12: 3 | K12: 7 | L12: 3 | M12: 5 | N12: 7 | O12: 20 | P12: 6 | Q12: 4 | R12: 5 | S12: 45 | T12: 12 | U12: 3 | V12: 0
A13: 34 | B13: SURESH KUMAR B | C13: 97 | D13: 29 | E13: 19 | F13: 12 | G13: 39 | H13: 10 | I13: 1 | J13: 4 | K13: -1 | L13: 2 | M13: 9 | N13: 4 | O13: 24 | P13: 7 | Q13: 4 | R13: 4 | S13: 35 | T13: 10 | U13: 5 | V13: 0
A14: 27 | B14: SABARISRIRAM I | C14: 96 | D14: 28 | E14: 16 | F14: 16 | G14: 13 | H14: 4 | I14: 3 | J14: 8 | K14: 6 | L14: 3 | M14: 6 | N14: 6 | O14: 37 | P14: 10 | Q14: 3 | R14: 2 | S14: 40 | T14: 11 | U14: 4 | V14: 0
... A21: 12 | B21: HARIPRASATH J | C21: 74 | D21: 22 | E21: 14 | F21: 24 | G21: 10 | H21: 3 | I21: 2 | J21: 10 | K21: 0 | L21: 2 | M21: 8 | N21: 5 | O21: 18 | P21: 5 | Q21: 2 | R21: 8 | S21: 46 | T21: 12 | U21: 2 | V21: 1

Sheet   DT-11 EM
A1: THOOTHUKUDI NEET REGIONAL CENTRE Daily Test - 11 ENGLISH MEDIUM
A2: Roll No | B2: Name | C2: Total Marks | D2: Correct Answers | E2: Incorrect Answers | F2: Not attempted | G2: Physics | H2: Physics _Correct Answers | I2: Physics _Incorrect Answers | J2: Physics _Not attempted | K2: Chemistry | L2: Chemistry_Correct Answers | M2: Chemistry_Incorrect Answers | N2: Chemistry_Not attempted | O2: Botany | P2: Botany_Correct Answers | Q2: Botany_Incorrect Answers | R2: Botany_Not attempted | S2: Zoology | T2: Zoology_Correct Answers | U2: Zoology_Incorrect Answers | V2: Zoology_Not attempted
A3: 15 | B3: KANNAN M | C3: 128 | D3: 35 | E3: 12 | F3: 13 | G3: 9 | H3: 3 | I3: 3 | J3: 9 | K3: 34 | L3: 9 | M3: 2 | N3: 4 | O3: 30 | P3: 9 | Q3: 6 | R3: 0 | S3: 55 | T3: 14 | U3: 1 | V3: 0
A4: 24 | B4: RAGAVI D | C4: 113 | D4: 32 | E4: 15 | F4: 13 | G4: 18 | H4: 5 | I4: 2 | J4: 8 | K4: 28 | L4: 8 | M4: 4 | N4: 3 | O4: 27 | P4: 8 | Q4: 5 | R4: 2 | S4: 40 | T4: 11 | U4: 4 | V4: 0
A5: 8 | B5: GANESH ABISHEIK V | C5: 109 | D5: 30 | E5: 11 | F5: 19 | G5: 22 | H5: 6 | I5: 2 | J5: 7 | K5: 12 | L5: 4 | M5: 4 | N5: 7 | O5: 30 | P5: 8 | Q5: 2 | R5: 5 | S5: 45 | T5: 12 | U5: 3 | V5: 0
A6: 26 | B6: RINO V | C6: 107 | D6: 29 | E6: 9 | F6: 22 | G6: 9 | H6: 3 | I6: 3 | J6: 9 | K6: 22 | L6: 6 | M6: 2 | N6: 7 | O6: 43 | P6: 11 | Q6: 1 | R6: 3 | S6: 33 | T6: 9 | U6: 3 | V6: 3
A7: 19 | B7: MOHAMED MUSTHAQ H | C7: 104 | D7: 28 | E7: 8 | F7: 24 | G7: 11 | H7: 3 | I7: 1 | J7: 11 | K7: 22 | L7: 6 | M7: 2 | N7: 7 | O7: 38 | P7: 10 | Q7: 2 | R7: 3 | S7: 33 | T7: 9 | U7: 3 | V7: 3
A8: 35 | B8: VARSHASRI L | C8: 101 | D8: 29 | E8: 15 | F8: 16 | G8: 8 | H8: 3 | I8: 4 | J8: 8 | K8: 25 | L8: 7 | M8: 3 | N8: 5 | O8: 27 | P8: 8 | Q8: 5 | R8: 2 | S8: 41 | T8: 11 | U8: 3 | V8: 1
A9: 4 | B9: ARULGANESH A | C9: 101 | D9: 28 | E9: 11 | F9: 21 | G9: 11 | H9: 3 | I9: 1 | J9: 11 | K9: 17 | L9: 5 | M9: 3 | N9: 7 | O9: 35 | P9: 10 | Q9: 5 | R9: 0 | S9: 38 | T9: 10 | U9: 2 | V9: 3
A10: 31 | B10: SIMEON PRAY JAMES H | C10: 100 | D10: 30 | E10: 20 | F10: 10 | G10: 11 | H10: 4 | I10: 5 | J10: 6 | K10: 29 | L10: 8 | M10: 3 | N10: 4 | O10: 25 | P10: 8 | Q10: 7 | R10: 0 | S10: 35 | T10: 10 | U10: 5 | V10: 0
A11: 1 | B11: AARTHIKADEVI P | C11: 94 | D11: 30 | E11: 26 | F11: 4 | G11: 13 | H11: 5 | I11: 7 | J11: 3 | K11: 16 | L11: 6 | M11: 8 | N11: 1 | O11: 35 | P11: 10 | Q11: 5 | R11: 0 | S11: 30 | T11: 9 | U11: 6 | V11: 0
A12: 16 | B12: KARTHICK AGIL I | C12: 92 | D12: 26 | E12: 12 | F12: 22 | G12: 15 | H12: 4 | I12: 1 | J12: 10 | K12: 22 | L12: 6 | M12: 2 | N12: 7 | O12: 15 | P12: 5 | Q12: 5 | R12: 5 | S12: 40 | T12: 11 | U12: 4 | V12: 0
A13: 3 | B13: ANTRORIJOWIN | C13: 78 | D13: 23 | E13: 14 | F13: 23 | G13: 9 | H13: 3 | I13: 3 | J13: 9 | K13: 27 | L13: 7 | M13: 1 | N13: 7 | O13: 22 | P13: 7 | Q13: 6 | R13: 2 | S13: 20 | T13: 6 | U13: 4 | V13: 5
A14: 32 | B14: SREEJESH M | C14: 76 | D14: 23 | E14: 16 | F14: 21 | G14: 12 | H14: 3 | I14: 0 | J14: 12 | K14: 15 | L14: 5 | M14: 5 | N14: 5 | O14: 14 | P14: 5 | Q14: 6 | R14: 4 | S14: 35 | T14: 10 | U14: 5 | V14: 0
... A16: 20 | B16: MUTHU LAKSHMI G | C16: 73 | D16: 22 | E16: 15 | F16: 23 | G16: 15 | H16: 4 | I16: 1 | J16: 10 | K16: 17 | L16: 5 | M16: 3 | N16: 7 | O16: 16 | P16: 6 | Q16: 8 | R16: 1 | S16: 25 | T16: 7 | U16: 3 | V16: 5

Sheet   DT-12 EM
A1: THOOTHUKUDI NEET REGIONAL CENTRE Daily Test - 12 ENGLISH MEDIUM
A2: Roll No | B2: Name | C2: Total Marks | D2: Correct Answers | E2: Incorrect Answers | F2: Not attempted | G2: Physics | H2: Physics _Correct Answers | I2: Physics _Incorrect Answers | J2: Physics _Not attempted | K2: Chemistry | L2: Chemistry_Correct Answers | M2: Chemistry_Incorrect Answers | N2: Chemistry_Not attempted | O2: Botany | P2: Botany_Correct Answers | Q2: Botany_Incorrect Answers | R2: Botany_Not attempted | S2: Zoology | T2: Zoology_Correct Answers | U2: Zoology_Incorrect Answers | V2: Zoology_Not attempted
A3: 24 | B3: RAGAVI D | C3: 154 | D3: 41 | E3: 10 | F3: 9 | G3: 25 | H3: 7 | I3: 3 | J3: 5 | K3: 41 | L3: 11 | M3: 3 | N3: 1 | O3: 38 | P3: 10 | Q3: 2 | R3: 3 | S3: 50 | T3: 13 | U3: 2 | V3: 0
A4: 3 | B4: ANTRORIJOWIN | C4: 140 | D4: 38 | E4: 12 | F4: 10 | G4: 27 | H4: 8 | I4: 5 | J4: 2 | K4: 41 | L4: 11 | M4: 3 | N4: 1 | O4: 27 | P4: 7 | Q4: 1 | R4: 7 | S4: 45 | T4: 12 | U4: 3 | V4: 0
A5: 1 | B5: AARTHIKADEVI P | C5: 127 | D5: 37 | E5: 21 | F5: 2 | G5: 27 | H5: 8 | I5: 5 | J5: 2 | K5: 35 | L5: 10 | M5: 5 | N5: 0 | O5: 35 | P5: 10 | Q5: 5 | R5: 0 | S5: 30 | T5: 9 | U5: 6 | V5: 0
A6: 35 | B6: VARSHASRI L | C6: 120 | D6: 34 | E6: 16 | F6: 10 | G6: 19 | H6: 6 | I6: 5 | J6: 4 | K6: 32 | L6: 9 | M6: 4 | N6: 2 | O6: 34 | P6: 9 | Q6: 2 | R6: 4 | S6: 35 | T6: 10 | U6: 5 | V6: 0
A7: 16 | B7: KARTHICK AGIL I | C7: 119 | D7: 31 | E7: 5 | F7: 24 | G7: 14 | H7: 4 | I7: 2 | J7: 9 | K7: 40 | L7: 10 | M7: 0 | N7: 5 | O7: 19 | P7: 5 | Q7: 1 | R7: 9 | S7: 46 | T7: 12 | U7: 2 | V7: 1
A8: 8 | B8: GANESH ABISHEIK V | C8: 109 | D8: 30 | E8: 11 | F8: 19 | G8: 14 | H8: 4 | I8: 2 | J8: 9 | K8: 31 | L8: 9 | M8: 5 | N8: 1 | O8: 23 | P8: 6 | Q8: 1 | R8: 8 | S8: 41 | T8: 11 | U8: 3 | V8: 1
A9: 26 | B9: RINO V | C9: 107 | D9: 29 | E9: 9 | F9: 22 | G9: 12 | H9: 4 | I9: 4 | J9: 7 | K9: 30 | L9: 8 | M9: 2 | N9: 5 | O9: 23 | P9: 6 | Q9: 1 | R9: 8 | S9: 42 | T9: 11 | U9: 2 | V9: 2
A10: 20 | B10: MUTHU LAKSHMI G | C10: 106 | D10: 29 | E10: 10 | F10: 21 | G10: 17 | H10: 5 | I10: 3 | J10: 7 | K10: 38 | L10: 10 | M10: 2 | N10: 3 | O10: 23 | P10: 6 | Q10: 1 | R10: 8 | S10: 28 | T10: 8 | U10: 4 | V10: 3
A11: 4 | B11: ARULGANESH A | C11: 105 | D11: 30 | E11: 15 | F11: 15 | G11: 25 | H11: 7 | I11: 3 | J11: 5 | K11: 30 | L11: 8 | M11: 2 | N11: 5 | O11: 20 | P11: 6 | Q11: 4 | R11: 5 | S11: 30 | T11: 9 | U11: 6 | V11: 0
A12: 15 | B12: KANNAN M | C12: 101 | D12: 29 | E12: 15 | F12: 16 | G12: -1 | H12: 1 | I12: 5 | J12: 9 | K12: 37 | L12: 10 | M12: 3 | N12: 2 | O12: 20 | P12: 6 | Q12: 4 | R12: 5 | S12: 45 | T12: 12 | U12: 3 | V12: 0
A13: 13 | B13: HARSHINIK | C13: 97 | D13: 29 | E13: 19 | F13: 12 | G13: 16 | H13: 5 | I13: 4 | J13: 6 | K13: 22 | L13: 7 | M13: 6 | N13: 2 | O13: 14 | P13: 5 | Q13: 6 | R13: 4 | S13: 45 | T13: 12 | U13: 3 | V13: 0
A14: 10 | B14: GOWSALYA N | C14: 95 | D14: 28 | E14: 17 | F14: 15 | G14: 16 | H14: 5 | I14: 4 | J14: 6 | K14: 20 | L14: 6 | M14: 4 | N14: 5 | O14: 29 | P14: 8 | Q14: 3 | R14: 4 | S14: 30 | T14: 9 | U14: 6 | V14: 0
... A18: 25 | B18: RAGAVI N | C18: 30 | D18: 16 | E18: 34 | F18: 10 | G18: -2 | H18: 2 | I18: 10 | J18: 3 | K18: -1 | L18: 2 | M18: 9 | N18: 4 | O18: 8 | P18: 4 | Q18: 8 | R18: 3 | S18: 25 | T18: 8 | U18: 7 | V18: 0

Sheet   DT-12 TM
A1: THOOTHUKUDI NEET REGIONAL CENTRE Daily Test - 12 TAMIL MEDIUM
A2: Roll No | B2: Name | C2: Total Marks | D2: Correct Answers | E2: Incorrect Answers | F2: Not attempted | G2: Physics | H2: Physics _Correct Answers | I2: Physics _Incorrect Answers | J2: Physics _Not attempted | K2: Chemistry | L2: Chemistry_Correct Answers | M2: Chemistry_Incorrect Answers | N2: Chemistry_Not attempted | O2: Botany | P2: Botany_Correct Answers | Q2: Botany_Incorrect Answers | R2: Botany_Not attempted | S2: Zoology | T2: Zoology_Correct Answers | U2: Zoology_Incorrect Answers | V2: Zoology_Not attempted
A3: 30 | B3: SHALINI S | C3: 144 | D3: 38 | E3: 8 | F3: 14 | G3: 19 | H3: 5 | I3: 1 | J3: 9 | K3: 50 | L3: 13 | M3: 2 | N3: 0 | O3: 30 | P3: 8 | Q3: 2 | R3: 5 | S3: 45 | T3: 12 | U3: 3 | V3: 0
A4: 21 | B4: NAVEENAROSELIN A | C4: 134 | D4: 36 | E4: 10 | F4: 14 | G4: 30 | H4: 8 | I4: 2 | J4: 5 | K4: 32 | L4: 9 | M4: 4 | N4: 2 | O4: 27 | P4: 7 | Q4: 1 | R4: 7 | S4: 45 | T4: 12 | U4: 3 | V4: 0
A5: 9 | B5: GOKULRAJ R | C5: 133 | D5: 36 | E5: 11 | F5: 13 | G5: 24 | H5: 7 | I5: 4 | J5: 4 | K5: 37 | L5: 10 | M5: 3 | N5: 2 | O5: 17 | P5: 5 | Q5: 3 | R5: 7 | S5: 55 | T5: 14 | U5: 1 | V5: 0
A6: 29 | B6: SATHYASRI K | C6: 132 | D6: 36 | E6: 12 | F6: 12 | G6: 29 | H6: 8 | I6: 3 | J6: 4 | K6: 46 | L6: 12 | M6: 2 | N6: 1 | O6: 17 | P6: 5 | Q6: 3 | R6: 7 | S6: 40 | T6: 11 | U6: 4 | V6: 0
A7: 2 | B7: AMEERA S | C7: 130 | D7: 35 | E7: 10 | F7: 15 | G7: 13 | H7: 4 | I7: 3 | J7: 8 | K7: 48 | L7: 12 | M7: 0 | N7: 3 | O7: 24 | P7: 7 | Q7: 4 | R7: 4 | S7: 45 | T7: 12 | U7: 3 | V7: 0
A8: 14 | B8: JANANI S | C8: 110 | D8: 31 | E8: 14 | F8: 15 | G8: 31 | H8: 8 | I8: 1 | J8: 6 | K8: 22 | L8: 7 | M8: 6 | N8: 2 | O8: 17 | P8: 5 | Q8: 3 | R8: 7 | S8: 40 | T8: 11 | U8: 4 | V8: 0
A9: 18 | B9: MALATHI E | C9: 107 | D9: 31 | E9: 17 | F9: 12 | G9: 13 | H9: 4 | I9: 3 | J9: 8 | K9: 27 | L9: 8 | M9: 5 | N9: 2 | O9: 32 | P9: 9 | Q9: 4 | R9: 2 | S9: 35 | T9: 10 | U9: 5 | V9: 0
A10: 5 | B10: DENIAL SAMSON S | C10: 102 | D10: 28 | E10: 10 | F10: 22 | G10: 26 | H10: 7 | I10: 2 | J10: 6 | K10: 31 | L10: 9 | M10: 5 | N10: 1 | O10: 0 | P10: 0 | Q10: 0 | R10: 15 | S10: 45 | T10: 12 | U10: 3 | V10: 0
A11: 28 | B11: SARIGA J | C11: 102 | D11: 29 | E11: 14 | F11: 17 | G11: 18 | H11: 5 | I11: 2 | J11: 8 | K11: 32 | L11: 9 | M11: 4 | N11: 2 | O11: 16 | P11: 5 | Q11: 4 | R11: 6 | S11: 36 | T11: 10 | U11: 4 | V11: 1
A12: 23 | B12: PAVIKAK | C12: 99 | D12: 28 | E12: 13 | F12: 19 | G12: 18 | H12: 5 | I12: 2 | J12: 8 | K12: 36 | L12: 10 | M12: 4 | N12: 1 | O12: 17 | P12: 5 | Q12: 3 | R12: 7 | S12: 28 | T12: 8 | U12: 4 | V12: 3
A13: 27 | B13: SABARISRIRAM I | C13: 97 | D13: 29 | E13: 19 | F13: 12 | G13: 14 | H13: 4 | I13: 2 | J13: 9 | K13: 17 | L13: 6 | M13: 7 | N13: 2 | O13: 21 | P13: 7 | Q13: 7 | R13: 1 | S13: 45 | T13: 12 | U13: 3 | V13: 0
A14: 7 | B14: ELANGOVAN K | C14: 96 | D14: 30 | E14: 24 | F14: 6 | G14: 17 | H14: 6 | I14: 7 | J14: 2 | K14: 30 | L14: 9 | M14: 6 | N14: 0 | O14: 9 | P14: 4 | Q14: 7 | R14: 4 | S14: 40 | T14: 11 | U14: 4 | V14: 0
... A20: 11 | B20: GOWSHIK G | C20: 63 | D20: 20 | E20: 17 | F20: 23 | G20: 22 | H20: 6 | I20: 2 | J20: 7 | K20: 8 | L20: 4 | M20: 8 | N20: 3 | O20: 8 | P20: 2 | Q20: 0 | R20: 13 | S20: 25 | T20: 8 | U20: 7 | V20: 0

Sheet DT-13 TM
A1: THOOTHUKUDI NEET REGIONAL CENTRE Daily Test - 13 TAMIL MEDIUM
A2: Roll No | B2: Name | C2: Total Marks | D2: Correct Answers | E2: Incorrect Answers | F2: Not attempted | G2: Physics | H2: Physics _Correct Answers | I2: Physics _Incorrect Answers | J2: Physics _Not attempted | K2: Chemistry | L2: Chemistry_Correct Answers | M2: Chemistry_Incorrect Answers | N2: Chemistry_Not attempted | O2: Botany | P2: Botany_Correct Answers | Q2: Botany_Incorrect Answers | R2: Botany_Not attempted | S2: Zoology | T2: Zoology_Correct Answers | U2: Zoology_Incorrect Answers | V2: Zoology_Not attempted
A3: 34 | B3: SURESH KUMAR B | C3: 123 | D3: 34 | E3: 13 | F3: 13 | G3: 7 | H3: 3 | I3: 5 | J3: 7 | K3: 20 | L3: 6 | M3: 4 | N3: 5 | O3: 46 | P3: 12 | Q3: 2 | R3: 1 | S3: 50 | T3: 13 | U3: 2 | V3: 0
A4: 33 | B4: SUJITH A | C4: 107 | D4: 32 | E4: 21 | F4: 7 | G4: 2 | H4: 2 | I4: 6 | J4: 7 | K4: 15 | L4: 6 | M4: 9 | N4: 0 | O4: 45 | P4: 12 | Q4: 3 | R4: 0 | S4: 45 | T4: 12 | U4: 3 | V4: 0
A5: 18 | B5: MALATHI E | C5: 100 | D5: 29 | E5: 16 | F5: 15 | G5: 16 | H5: 5 | I5: 4 | J5: 6 | K5: 19 | L5: 6 | M5: 5 | N5: 4 | O5: 25 | P5: 7 | Q5: 3 | R5: 5 | S5: 40 | T5: 11 | U5: 4 | V5: 0
A6: 2 | B6: AMEERA S | C6: 91 | D6: 26 | E6: 13 | F6: 21 | G6: 18 | H6: 5 | I6: 2 | J6: 8 | K6: 13 | L6: 4 | M6: 3 | N6: 8 | O6: 35 | P6: 9 | Q6: 1 | R6: 5 | S6: 25 | T6: 8 | U6: 7 | V6: 0
A7: 30 | B7: SHALINI S | C7: 90 | D7: 27 | E7: 18 | F7: 15 | G7: 7 | H7: 3 | I7: 5 | J7: 7 | K7: 21 | L7: 6 | M7: 3 | N7: 6 | O7: 32 | P7: 9 | Q7: 4 | R7: 2 | S7: 30 | T7: 9 | U7: 6 | V7: 0
A8: 14 | B8: JANANI S | C8: 90 | D8: 27 | E8: 18 | F8: 15 | G8: 6 | H8: 3 | I8: 6 | J8: 6 | K8: 11 | L8: 4 | M8: 5 | N8: 6 | O8: 42 | P8: 11 | Q8: 2 | R8: 2 | S8: 31 | T8: 9 | U8: 5 | V8: 1
A9: 27 | B9: SABARISRIRAM I | C9: 86 | D9: 26 | E9: 18 | F9: 16 | G9: 18 | H9: 5 | I9: 2 | J9: 8 | K9: -3 | L9: 1 | M9: 7 | N9: 7 | O9: 41 | P9: 11 | Q9: 3 | R9: 1 | S9: 30 | T9: 9 | U9: 6 | V9: 0
A10: 9 | B10: GOKULRAJ R | C10: 83 | D10: 25 | E10: 17 | F10: 18 | G10: -3 | H10: 1 | I10: 7 | J10: 7 | K10: 12 | L10: 4 | M10: 4 | N10: 7 | O10: 34 | P10: 9 | Q10: 2 | R10: 4 | S10: 40 | T10: 11 | U10: 4 | V10: 0
A11: 23 | B11: PAVIKAK | C11: 83 | D11: 25 | E11: 17 | F11: 18 | G11: 6 | H11: 3 | I11: 6 | J11: 6 | K11: 11 | L11: 4 | M11: 5 | N11: 6 | O11: 25 | P11: 7 | Q11: 3 | R11: 5 | S11: 41 | T11: 11 | U11: 3 | V11: 1
A12: 5 | B12: DENIAL SAMSON S | C12: 78 | D12: 24 | E12: 18 | F12: 18 | G12: 12 | H12: 5 | I12: 8 | J12: 2 | K12: 11 | L12: 3 | M12: 1 | N12: 11 | O12: 25 | P12: 7 | Q12: 3 | R12: 5 | S12: 30 | T12: 9 | U12: 6 | V12: 0
A13: 29 | B13: SATHYASRI K | C13: 72 | D13: 22 | E13: 16 | F13: 22 | G13: 11 | H13: 4 | I13: 5 | J13: 6 | K13: 8 | L13: 3 | M13: 4 | N13: 8 | O13: 22 | P13: 6 | Q13: 2 | R13: 7 | S13: 31 | T13: 9 | U13: 5 | V13: 1
A14: 21 | B14: NAVEENAROSELIN A | C14: 64 | D14: 20 | E14: 16 | F14: 24 | G14: 8 | H14: 3 | I14: 4 | J14: 8 | K14: 9 | L14: 3 | M14: 3 | N14: 9 | O14: 12 | P14: 4 | Q14: 4 | R14: 7 | S14: 35 | T14: 10 | U14: 5 | V14: 0
... A21: 7 | B21: ELANGOVAN K | C21: 33 | D21: 16 | E21: 31 | F21: 13 | G21: 4 | H21: 3 | I21: 8 | J21: 4 | K21: -5 | L21: 1 | M21: 9 | N21: 5 | O21: -1 | P21: 2 | Q21: 9 | R21: 4 | S21: 35 | T21: 10 | U21: 5 | V21: 0

Sheet  DT-14 TM
A1: THOOTHUKUDI NEET REGIONAL CENTRE Daily Test - 14 TAMIL MEDIUM
A2: Roll No | B2: Name | C2: Total Marks | D2: Correct Answers | E2: Incorrect Answers | F2: Not attempted | G2: Physics | H2: Physics _Correct Answers | I2: Physics _Incorrect Answers | J2: Physics _Not attempted | K2: Chemistry | L2: Chemistry_Correct Answers | M2: Chemistry_Incorrect Answers | N2: Chemistry_Not attempted | O2: Botany | P2: Botany_Correct Answers | Q2: Botany_Incorrect Answers | R2: Botany_Not attempted | S2: Zoology | T2: Zoology_Correct Answers | U2: Zoology_Incorrect Answers | V2: Zoology_Not attempted
A3: 18 | B3: MALATHI E | C3: 114 | D3: 32 | E3: 14 | F3: 14 | G3: 20 | H3: 6 | I3: 4 | J3: 5 | K3: 26 | L3: 7 | M3: 2 | N3: 6 | O3: 23 | P3: 7 | Q3: 5 | R3: 3 | S3: 45 | T3: 12 | U3: 3 | V3: 0
A4: 30 | B4: SHALINI S | C4: 99 | D4: 28 | E4: 13 | F4: 19 | G4: 28 | H4: 8 | I4: 4 | J4: 3 | K4: 9 | L4: 3 | M4: 3 | N4: 9 | O4: 16 | P4: 5 | Q4: 4 | R4: 6 | S4: 46 | T4: 12 | U4: 2 | V4: 1
A5: 21 | B5: NAVEENAROSELIN A | C5: 94 | D5: 26 | E5: 10 | F5: 24 | G5: 21 | H5: 6 | I5: 3 | J5: 6 | K5: 12 | L5: 3 | M5: 0 | N5: 12 | O5: 31 | P5: 8 | Q5: 1 | R5: 6 | S5: 30 | T5: 9 | U5: 6 | V5: 0
A6: 9 | B6: GOKULRAJ R | C6: 87 | D6: 25 | E6: 13 | F6: 22 | G6: 24 | H6: 6 | I6: 0 | J6: 9 | K6: 3 | L6: 2 | M6: 5 | N6: 8 | O6: 25 | P6: 7 | Q6: 3 | R6: 5 | S6: 35 | T6: 10 | U6: 5 | V6: 0
A7: 29 | B7: SATHYASRI K | C7: 87 | D7: 25 | E7: 13 | F7: 22 | G7: 11 | H7: 4 | I7: 5 | J7: 6 | K7: 19 | L7: 5 | M7: 1 | N7: 9 | O7: 27 | P7: 7 | Q7: 1 | R7: 7 | S7: 30 | T7: 9 | U7: 6 | V7: 0
A8: 2 | B8: AMEERA S | C8: 86 | D8: 25 | E8: 14 | F8: 21 | G8: 33 | H8: 9 | I8: 3 | J8: 3 | K8: 13 | L8: 4 | M8: 3 | N8: 8 | O8: 13 | P8: 4 | Q8: 3 | R8: 8 | S8: 27 | T8: 8 | U8: 5 | V8: 2
A9: 22 | B9: NEEDHIRAJAN V | C9: 83 | D9: 25 | E9: 17 | F9: 18 | G9: 26 | H9: 7 | I9: 2 | J9: 6 | K9: 7 | L9: 3 | M9: 5 | N9: 7 | O9: 20 | P9: 6 | Q9: 4 | R9: 5 | S9: 30 | T9: 9 | U9: 6 | V9: 0
A10: 28 | B10: SARIGA J | C10: 77 | D10: 22 | E10: 11 | F10: 27 | G10: 31 | H10: 8 | I10: 1 | J10: 6 | K10: 6 | L10: 2 | M10: 2 | N10: 11 | O10: 8 | P10: 3 | Q10: 4 | R10: 8 | S10: 32 | T10: 9 | U10: 4 | V10: 2
A11: 17 | B11: KOUSIKA S | C11: 75 | D11: 24 | E11: 21 | F11: 15 | G11: 11 | H11: 4 | I11: 5 | J11: 6 | K11: 10 | L11: 4 | M11: 6 | N11: 5 | O11: 19 | P11: 6 | Q11: 5 | R11: 4 | S11: 35 | T11: 10 | U11: 5 | V11: 0
A12: 33 | B12: SUJITH A | C12: 72 | D12: 22 | E12: 16 | F12: 22 | G12: 21 | H12: 6 | I12: 3 | J12: 6 | K12: -5 | L12: 0 | M12: 5 | N12: 10 | O12: 11 | P12: 4 | Q12: 5 | R12: 6 | S12: 45 | T12: 12 | U12: 3 | V12: 0
A13: 14 | B13: JANANI S | C13: 70 | D13: 21 | E13: 14 | F13: 25 | G13: 9 | H13: 3 | I13: 3 | J13: 9 | K13: 6 | L13: 2 | M13: 2 | N13: 11 | O13: 25 | P13: 7 | Q13: 3 | R13: 5 | S13: 30 | T13: 9 | U13: 6 | V13: 0
A14: 34 | B14: SURESH KUMAR B | C14: 69 | D14: 21 | E14: 15 | F14: 24 | G14: 20 | H14: 6 | I14: 4 | J14: 5 | K14: 0 | L14: 0 | M14: 0 | N14: 15 | O14: 19 | P14: 6 | Q14: 5 | R14: 4 | S14: 30 | T14: 9 | U14: 6 | V14: 0
... A21: 11 | B21: GOWSHIK G | C21: 55 | D21: 17 | E21: 13 | F21: 30 | G21: 4 | H21: 2 | I21: 4 | J21: 9 | K21: 2 | L21: 1 | M21: 2 | N21: 12 | O21: 9 | P21: 3 | Q21: 3 | R21: 9 | S21: 40 | T21: 11 | U21: 4 | V21: 0

Sheet  DT-13 EM
A1: THOOTHUKUDI NEET REGIONAL CENTRE Daily Test - 13 ENGLISH MEDIUM
A2: Roll No | B2: Name | C2: Total Marks | D2: Correct Answers | E2: Incorrect Answers | F2: Not attempted | G2: Physics | H2: Physics _Correct Answers | I2: Physics _Incorrect Answers | J2: Physics _Not attempted | K2: Chemistry | L2: Chemistry_Correct Answers | M2: Chemistry_Incorrect Answers | N2: Chemistry_Not attempted | O2: Botany | P2: Botany_Correct Answers | Q2: Botany_Incorrect Answers | R2: Botany_Not attempted | S2: Zoology | T2: Zoology_Correct Answers | U2: Zoology_Incorrect Answers | V2: Zoology_Not attempted
A3: 3 | B3: ANTRORIJOWIN | C3: 134 | D3: 36 | E3: 10 | F3: 14 | G3: 27 | H3: 7 | I3: 1 | J3: 7 | K3: 28 | L3: 8 | M3: 4 | N3: 3 | O3: 34 | P3: 9 | Q3: 2 | R3: 4 | S3: 45 | T3: 12 | U3: 3 | V3: 0
A4: 1 | B4: AARTHIKADEVI P | C4: 125 | D4: 35 | E4: 15 | F4: 10 | G4: 29 | H4: 8 | I4: 3 | J4: 4 | K4: 10 | L4: 4 | M4: 6 | N4: 5 | O4: 31 | P4: 9 | Q4: 5 | R4: 1 | S4: 55 | T4: 14 | U4: 1 | V4: 0
A5: 35 | B5: VARSHASRI L | C5: 117 | D5: 33 | E5: 15 | F5: 12 | G5: 29 | H5: 8 | I5: 3 | J5: 4 | K5: 10 | L5: 4 | M5: 6 | N5: 5 | O5: 37 | P5: 10 | Q5: 3 | R5: 2 | S5: 41 | T5: 11 | U5: 3 | V5: 1
A6: 20 | B6: MUTHU LAKSHMI G | C6: 108 | D6: 29 | E6: 8 | F6: 23 | G6: 18 | H6: 5 | I6: 2 | J6: 8 | K6: 30 | L6: 8 | M6: 2 | N6: 5 | O6: 34 | P6: 9 | Q6: 2 | R6: 4 | S6: 26 | T6: 7 | U6: 2 | V6: 6
A7: 10 | B7: GOWSALYA N | C7: 102 | D7: 29 | E7: 14 | F7: 17 | G7: 27 | H7: 7 | I7: 1 | J7: 7 | K7: -2 | L7: 1 | M7: 6 | N7: 8 | O7: 41 | P7: 11 | Q7: 3 | R7: 1 | S7: 36 | T7: 10 | U7: 4 | V7: 1
A8: 13 | B8: HARSHINIK | C8: 100 | D8: 29 | E8: 16 | F8: 15 | G8: 17 | H8: 5 | I8: 3 | J8: 7 | K8: 6 | L8: 3 | M8: 6 | N8: 6 | O8: 32 | P8: 9 | Q8: 4 | R8: 2 | S8: 45 | T8: 12 | U8: 3 | V8: 0
A9: 4 | B9: ARULGANESH A | C9: 99 | D9: 28 | E9: 13 | F9: 19 | G9: -2 | H9: 1 | I9: 6 | J9: 8 | K9: 5 | L9: 2 | M9: 3 | N9: 10 | O9: 46 | P9: 12 | Q9: 2 | R9: 1 | S9: 50 | T9: 13 | U9: 2 | V9: 0
A10: 15 | B10: KANNAN M | C10: 95 | D10: 28 | E10: 17 | F10: 15 | G10: 14 | H10: 5 | I10: 6 | J10: 4 | K10: 16 | L10: 4 | M10: 0 | N10: 11 | O10: 30 | P10: 9 | Q10: 6 | R10: 0 | S10: 35 | T10: 10 | U10: 5 | V10: 0
A11: 24 | B11: RAGAVI D | C11: 88 | D11: 25 | E11: 12 | F11: 23 | G11: 18 | H11: 5 | I11: 2 | J11: 8 | K11: 17 | L11: 5 | M11: 3 | N11: 7 | O11: 21 | P11: 6 | Q11: 3 | R11: 6 | S11: 32 | T11: 9 | U11: 4 | V11: 2
A12: 32 | B12: SREEJESH M | C12: 84 | D12: 24 | E12: 12 | F12: 24 | G12: 6 | H12: 2 | I12: 2 | J12: 11 | K12: 11 | L12: 4 | M12: 5 | N12: 6 | O12: 22 | P12: 6 | Q12: 2 | R12: 7 | S12: 45 | T12: 12 | U12: 3 | V12: 0
A13: 8 | B13: GANESH ABISHEIK V | C13: 82 | D13: 26 | E13: 22 | F13: 12 | G13: -1 | H13: 2 | I13: 9 | J13: 4 | K13: 22 | L13: 7 | M13: 6 | N13: 2 | O13: 18 | P13: 6 | Q13: 6 | R13: 3 | S13: 43 | T13: 11 | U13: 1 | V13: 3
A14: 16 | B14: KARTHICK AGIL I | C14: 80 | D14: 22 | E14: 8 | F14: 30 | G14: 31 | H14: 8 | I14: 1 | J14: 6 | K14: 2 | L14: 1 | M14: 2 | N14: 12 | O14: 27 | P14: 7 | Q14: 1 | R14: 7 | S14: 20 | T14: 6 | U14: 4 | V14: 5
... A18: 25 | B18: RAGAVI N | C18: 38 | D18: 16 | E18: 26 | F18: 18 | G18: 2 | H18: 2 | I18: 6 | J18: 7 | K18: -8 | L18: 0 | M18: 8 | N18: 7 | O18: 18 | P18: 6 | Q18: 6 | R18: 3 | S18: 26 | T18: 8 | U18: 6 | V18: 1

Sheet DT-14 EM
A1: THOOTHUKUDI NEET REGIONAL CENTRE Daily Test - 14 ENGLISH MEDIUM
A2: Roll No | B2: Name | C2: Total Marks | D2: Correct Answers | E2: Incorrect Answers | F2: Not attempted | G2: Physics | H2: Physics _Correct Answers | I2: Physics _Incorrect Answers | J2: Physics _Not attempted | K2: Chemistry | L2: Chemistry_Correct Answers | M2: Chemistry_Incorrect Answers | N2: Chemistry_Not attempted | O2: Botany | P2: Botany_Correct Answers | Q2: Botany_Incorrect Answers | R2: Botany_Not attempted | S2: Zoology | T2: Zoology_Correct Answers | U2: Zoology_Incorrect Answers | V2: Zoology_Not attempted
A3: 20 | B3: MUTHU LAKSHMI G | C3: 112 | D3: 29 | E3: 4 | F3: 27 | G3: 19 | H3: 5 | I3: 1 | J3: 9 | K3: 36 | L3: 9 | M3: 0 | N3: 6 | O3: 19 | P3: 5 | Q3: 1 | R3: 9 | S3: 38 | T3: 10 | U3: 2 | V3: 3
A4: 24 | B4: RAGAVI D | C4: 101 | D4: 28 | E4: 11 | F4: 21 | G4: 20 | H4: 6 | I4: 4 | J4: 5 | K4: 10 | L4: 3 | M4: 2 | N4: 10 | O4: 25 | P4: 7 | Q4: 3 | R4: 5 | S4: 46 | T4: 12 | U4: 2 | V4: 1
A5: 3 | B5: ANTRORIJOWIN | C5: 99 | D5: 26 | E5: 5 | F5: 29 | G5: 30 | H5: 8 | I5: 2 | J5: 5 | K5: 8 | L5: 2 | M5: 0 | N5: 13 | O5: 16 | P5: 4 | Q5: 0 | R5: 11 | S5: 45 | T5: 12 | U5: 3 | V5: 0
A6: 35 | B6: VARSHASRI L | C6: 96 | D6: 29 | E6: 20 | F6: 11 | G6: 24 | H6: 7 | I6: 4 | J6: 4 | K6: 19 | L6: 6 | M6: 5 | N6: 4 | O6: 18 | P6: 6 | Q6: 6 | R6: 3 | S6: 35 | T6: 10 | U6: 5 | V6: 0
A7: 8 | B7: GANESH ABISHEIK V | C7: 82 | D7: 23 | E7: 10 | F7: 27 | G7: 23 | H7: 6 | I7: 1 | J7: 8 | K7: 5 | L7: 2 | M7: 3 | N7: 10 | O7: 13 | P7: 4 | Q7: 3 | R7: 8 | S7: 41 | T7: 11 | U7: 3 | V7: 1
A8: 10 | B8: GOWSALYA N | C8: 82 | D8: 24 | E8: 14 | F8: 22 | G8: 8 | H8: 3 | I8: 4 | J8: 8 | K8: 8 | L8: 3 | M8: 4 | N8: 8 | O8: 26 | P8: 7 | Q8: 2 | R8: 6 | S8: 40 | T8: 11 | U8: 4 | V8: 0
A9: 16 | B9: KARTHICK AGIL I | C9: 81 | D9: 22 | E9: 7 | F9: 31 | G9: 12 | H9: 4 | I9: 4 | J9: 7 | K9: -1 | L9: 0 | M9: 1 | N9: 14 | O9: 20 | P9: 5 | Q9: 0 | R9: 10 | S9: 50 | T9: 13 | U9: 2 | V9: 0
A10: 26 | B10: RINO V | C10: 73 | D10: 20 | E10: 7 | F10: 33 | G10: 13 | H10: 4 | I10: 3 | J10: 8 | K10: 3 | L10: 1 | M10: 1 | N10: 13 | O10: 19 | P10: 5 | Q10: 1 | R10: 9 | S10: 38 | T10: 10 | U10: 2 | V10: 3
A11: 19 | B11: MOHAMED MUSTHAQ H | C11: 69 | D11: 19 | E11: 7 | F11: 34 | G11: 14 | H11: 4 | I11: 2 | J11: 9 | K11: 4 | L11: 1 | M11: 0 | N11: 14 | O11: 10 | P11: 3 | Q11: 2 | R11: 10 | S11: 41 | T11: 11 | U11: 3 | V11: 1
A12: 1 | B12: AARTHIKADEVI P | C12: 68 | D12: 23 | E12: 24 | F12: 13 | G12: 18 | H12: 6 | I12: 6 | J12: 3 | K12: 4 | L12: 2 | M12: 4 | N12: 9 | O12: 21 | P12: 7 | Q12: 7 | R12: 1 | S12: 25 | T12: 8 | U12: 7 | V12: 0
A13: 4 | B13: ARULGANESH A | C13: 64 | D13: 18 | E13: 8 | F13: 34 | G13: 14 | H13: 4 | I13: 2 | J13: 9 | K13: 0 | L13: 0 | M13: 0 | N13: 15 | O13: 20 | P13: 5 | Q13: 0 | R13: 10 | S13: 30 | T13: 9 | U13: 6 | V13: 0
A14: 13 | B14: HARSHINIK | C14: 56 | D14: 19 | E14: 20 | F14: 21 | G14: 7 | H14: 3 | I14: 5 | J14: 7 | K14: 1 | L14: 1 | M14: 3 | N14: 11 | O14: 18 | P14: 6 | Q14: 6 | R14: 3 | S14: 30 | T14: 9 | U14: 6 | V14: 0
... A18: 31 | B18: SIMEON PRAY JAMES H | C18: 40 | D18: 15 | E18: 20 | F18: 25 | G18: -2 | H18: 1 | I18: 6 | J18: 8 | K18: 0 | L18: 1 | M18: 4 | N18: 10 | O18: 7 | P18: 3 | Q18: 5 | R18: 7 | S18: 35 | T18: 10 | U18: 5 | V18: 0

Sheet   DT- 11TM
A1: THOOTHUKUDI NEET REGIONAL CENTRE Daily Test - 11 TAMIL MEDIUM
A2: Roll No | B2: Name | C2: Total Marks | D2: Correct Answers | E2: Incorrect Answers | F2: Not attempted | G2: Physics | H2: Physics _Correct Answers | I2: Physics _Incorrect Answers | J2: Physics _Not attempted | K2: Chemistry | L2: Chemistry_Correct Answers | M2: Chemistry_Incorrect Answers | N2: Chemistry_Not attempted | O2: Botany | P2: Botany_Correct Answers | Q2: Botany_Incorrect Answers | R2: Botany_Not attempted | S2: Zoology | T2: Zoology_Correct Answers | U2: Zoology_Incorrect Answers | V2: Zoology_Not attempted
A3: 5 | B3: DENIAL SAMSON S | C3: 133 | D3: 37 | E3: 15 | F3: 8 | G3: 15 | H3: 5 | I3: 5 | J3: 5 | K3: 33 | L3: 9 | M3: 3 | N3: 3 | O3: 30 | P3: 9 | Q3: 6 | R3: 0 | S3: 55 | T3: 14 | U3: 1 | V3: 0
A4: 18 | B4: MALATHI E | C4: 127 | D4: 35 | E4: 13 | F4: 12 | G4: 12 | H4: 4 | I4: 4 | J4: 7 | K4: 33 | L4: 9 | M4: 3 | N4: 3 | O4: 41 | P4: 11 | Q4: 3 | R4: 1 | S4: 41 | T4: 11 | U4: 3 | V4: 1
A5: 23 | B5: PAVIKAK | C5: 122 | D5: 33 | E5: 10 | F5: 17 | G5: 10 | H5: 3 | I5: 2 | J5: 10 | K5: 20 | L5: 6 | M5: 4 | N5: 5 | O5: 41 | P5: 11 | Q5: 3 | R5: 1 | S5: 51 | T5: 13 | U5: 1 | V5: 1
A6: 30 | B6: SHALINI S | C6: 114 | D6: 32 | E6: 14 | F6: 14 | G6: 17 | H6: 5 | I6: 3 | J6: 7 | K6: 29 | L6: 8 | M6: 3 | N6: 4 | O6: 42 | P6: 11 | Q6: 2 | R6: 2 | S6: 26 | T6: 8 | U6: 6 | V6: 1
A7: 9 | B7: GOKULRAJ R | C7: 111 | D7: 31 | E7: 13 | F7: 16 | G7: 3 | H7: 2 | I7: 5 | J7: 8 | K7: 29 | L7: 8 | M7: 3 | N7: 4 | O7: 37 | P7: 10 | Q7: 3 | R7: 2 | S7: 42 | T7: 11 | U7: 2 | V7: 2
A8: 7 | B8: ELANGOVAN K | C8: 106 | D8: 31 | E8: 18 | F8: 11 | G8: 16 | H8: 5 | I8: 4 | J8: 6 | K8: 13 | L8: 5 | M8: 7 | N8: 3 | O8: 45 | P8: 12 | Q8: 3 | R8: 0 | S8: 32 | T8: 9 | U8: 4 | V8: 2
A9: 34 | B9: SURESH KUMAR B | C9: 101 | D9: 31 | E9: 23 | F9: 6 | G9: 16 | H9: 5 | I9: 4 | J9: 6 | K9: 0 | L9: 3 | M9: 12 | N9: 0 | O9: 35 | P9: 10 | Q9: 5 | R9: 0 | S9: 50 | T9: 13 | U9: 2 | V9: 0
A10: 11 | B10: GOWSHIK G | C10: 93 | D10: 27 | E10: 15 | F10: 18 | G10: 21 | H10: 6 | I10: 3 | J10: 6 | K10: 21 | L10: 6 | M10: 3 | N10: 6 | O10: 20 | P10: 6 | Q10: 4 | R10: 5 | S10: 31 | T10: 9 | U10: 5 | V10: 1
A11: 21 | B11: NAVEENAROSELIN A | C11: 91 | D11: 27 | E11: 17 | F11: 16 | G11: 8 | H11: 3 | I11: 4 | J11: 8 | K11: 15 | L11: 5 | M11: 5 | N11: 5 | O11: 32 | P11: 9 | Q11: 4 | R11: 2 | S11: 36 | T11: 10 | U11: 4 | V11: 1
A12: 33 | B12: SUJITH A | C12: 90 | D12: 30 | E12: 30 | F12: 0 | G12: 15 | H12: 6 | I12: 9 | J12: 0 | K12: 20 | L12: 7 | M12: 8 | N12: 0 | O12: 30 | P12: 9 | Q12: 6 | R12: 0 | S12: 25 | T12: 8 | U12: 7 | V12: 0
A13: 28 | B13: SARIGA J | C13: 88 | D13: 26 | E13: 16 | F13: 18 | G13: 7 | H13: 3 | I13: 5 | J13: 7 | K13: 13 | L13: 4 | M13: 3 | N13: 8 | O13: 36 | P13: 10 | Q13: 4 | R13: 1 | S13: 32 | T13: 9 | U13: 4 | V13: 2
A14: 14 | B14: JANANI S | C14: 88 | D14: 27 | E14: 20 | F14: 13 | G14: 9 | H14: 3 | I14: 3 | J14: 9 | K14: 23 | L14: 7 | M14: 5 | N14: 3 | O14: 31 | P14: 9 | Q14: 5 | R14: 1 | S14: 25 | T14: 8 | U14: 7 | V14: 0
... A20: 22 | B20: NEEDHIRAJAN V | C20: 43 | D20: 18 | E20: 29 | F20: 13 | G20: -4 | H20: 1 | I20: 8 | J20: 6 | K20: 5 | L20: 3 | M20: 7 | N20: 5 | O20: 16 | P20: 6 | Q20: 8 | R20: 1 | S20: 26 | T20: 8 | U20: 6 | V20: 1

Sheet WT-3 EM Cummulative-PHY
A1: THOOTHUKUDI NEET REGIONAL CENTRE Weekly Test - 3 PHYSICS ENGLISH MEDIUM
A2: Roll No | B2: Name | C2: Total Marks | D2: Correct Answers | E2: Incorrect Answers | F2: Not attempted | G2: Physics | H2: Physics _Correct Answers | I2: Physics _Incorrect Answers | J2: Physics _Not attempted
A3: 35 | B3: VARSHASRI L | C3: 47 | D3: 15 | E3: 13 | F3: 17 | G3: 47 | H3: 15 | I3: 13 | J3: 17
A4: 3 | B4: ANTRORIJOWIN | C4: 46 | D4: 13 | E4: 6 | F4: 26 | G4: 46 | H4: 13 | I4: 6 | J4: 26
A5: 20 | B5: MUTHU LAKSHMI G | C5: 45 | D5: 13 | E5: 7 | F5: 25 | G5: 45 | H5: 13 | I5: 7 | J5: 25
A6: 26 | B6: RINO V | C6: 36 | D6: 11 | E6: 8 | F6: 26 | G6: 36 | H6: 11 | I6: 8 | J6: 26
A7: 16 | B7: KARTHICK AGIL I | C7: 36 | D7: 11 | E7: 8 | F7: 26 | G7: 36 | H7: 11 | I7: 8 | J7: 26
A8: 24 | B8: RAGAVI D | C8: 35 | D8: 12 | E8: 13 | F8: 20 | G8: 35 | H8: 12 | I8: 13 | J8: 20
A9: 32 | B9: SREEJESH M | C9: 26 | D9: 9 | E9: 10 | F9: 26 | G9: 26 | H9: 9 | I9: 10 | J9: 26
A10: 4 | B10: ARULGANESH A | C10: 26 | D10: 9 | E10: 10 | F10: 26 | G10: 26 | H10: 9 | I10: 10 | J10: 26
A11: 19 | B11: MOHAMED MUSTHAQ H | C11: 24 | D11: 9 | E11: 12 | F11: 24 | G11: 24 | H11: 9 | I11: 12 | J11: 24
A12: 1 | B12: AARTHIKADEVI P | C12: 22 | D12: 10 | E12: 18 | F12: 17 | G12: 22 | H12: 10 | I12: 18 | J12: 17
A13: 31 | B13: SIMEON PRAY JAMES H | C13: 20 | D13: 10 | E13: 20 | F13: 15 | G13: 20 | H13: 10 | I13: 20 | J13: 15
A14: 10 | B14: GOWSALYA N | C14: 17 | D14: 8 | E14: 15 | F14: 22 | G14: 17 | H14: 8 | I14: 15 | J14: 22
A15: 15 | B15: KANNAN M | C15: 16 | D15: 8 | E15: 16 | F15: 21 | G15: 16 | H15: 8 | I15: 16 | J15: 21

Sheet WT - 1 EM
A1: THOOTHUKUDI NEET REGIONAL CENTRE WEEKLY TEST- 1 ENGLISH MEDIUM
A2: Roll No | B2: Name | C2: Total Marks | D2: Correct Answers | E2: Incorrect Answers | F2: Not attempted | G2: Physics | H2: Physics _Correct Answers | I2: Physics _Incorrect Answers | J2: Physics _Not attempted | K2: Chemistry | L2: Chemistry_Correct Answers | M2: Chemistry_Incorrect Answers | N2: Chemistry_Not attempted | O2: Botany | P2: Botany_Correct Answers | Q2: Botany_Incorrect Answers | R2: Botany_Not attempted | S2: Zoology | T2: Zoology_Correct Answers | U2: Zoology_Incorrect Answers | V2: Zoology_Not attempted
A3: 20 | B3: MUTHU LAKSHMI G | C3: 378 | D3: 98 | E3: 14 | F3: 68 | G3: 78 | H3: 20 | I3: 2 | J3: 23 | K3: 138 | L3: 35 | M3: 2 | N3: 8 | O3: 53 | P3: 14 | Q3: 3 | R3: 28 | S3: 109 | T3: 29 | U3: 7 | V3: 9
A4: 3 | B4: ANTRORIJOWIN | C4: 359 | D4: 98 | E4: 33 | F4: 49 | G4: 70 | H4: 19 | I4: 6 | J4: 20 | K4: 122 | L4: 32 | M4: 6 | N4: 7 | O4: 81 | P4: 23 | Q4: 11 | R4: 11 | S4: 86 | T4: 24 | U4: 10 | V4: 11
A5: 24 | B5: RAGAVI D | C5: 350 | D5: 99 | E5: 46 | F5: 35 | G5: 93 | H5: 26 | I5: 11 | J5: 8 | K5: 93 | L5: 25 | M5: 7 | N5: 13 | O5: 76 | P5: 22 | Q5: 12 | R5: 11 | S5: 88 | T5: 26 | U5: 16 | V5: 3
A6: 35 | B6: VARSHASRI L | C6: 326 | D6: 95 | E6: 54 | F6: 31 | G6: 70 | H6: 21 | I6: 14 | J6: 10 | K6: 87 | L6: 24 | M6: 9 | N6: 12 | O6: 41 | P6: 16 | Q6: 23 | R6: 6 | S6: 128 | T6: 34 | U6: 8 | V6: 3
A7: 26 | B7: RINO V | C7: 309 | D7: 88 | E7: 43 | F7: 49 | G7: 58 | H7: 16 | I7: 6 | J7: 23 | K7: 61 | L7: 17 | M7: 7 | N7: 21 | O7: 82 | P7: 25 | Q7: 18 | R7: 2 | S7: 108 | T7: 30 | U7: 12 | V7: 3
A8: 10 | B8: GOWSALYA N | C8: 281 | D8: 83 | E8: 51 | F8: 46 | G8: 45 | H8: 14 | I8: 11 | J8: 20 | K8: 37 | L8: 13 | M8: 15 | N8: 17 | O8: 101 | P8: 28 | Q8: 11 | R8: 6 | S8: 98 | T8: 28 | U8: 14 | V8: 3
A9: 32 | B9: SREEJESH M | C9: 251 | D9: 72 | E9: 37 | F9: 71 | G9: 55 | H9: 15 | I9: 5 | J9: 25 | K9: 60 | L9: 17 | M9: 8 | N9: 20 | O9: 57 | P9: 16 | Q9: 7 | R9: 22 | S9: 79 | T9: 24 | U9: 17 | V9: 4
A10: 31 | B10: SIMEON PRAY JAMES H | C10: 244 | D10: 74 | E10: 52 | F10: 54 | G10: 70 | H10: 19 | I10: 6 | J10: 20 | K10: 51 | L10: 15 | M10: 9 | N10: 21 | O10: 37 | P10: 15 | Q10: 23 | R10: 7 | S10: 86 | T10: 25 | U10: 14 | V10: 6
A11: 15 | B11: KANNAN M | C11: 214 | D11: 74 | E11: 82 | F11: 24 | G11: 37 | H11: 15 | I11: 23 | J11: 7 | K11: 65 | L11: 20 | M11: 15 | N11: 10 | O11: 42 | P11: 16 | Q11: 22 | R11: 7 | S11: 70 | T11: 23 | U11: 22 | V11: 0
A12: 19 | B12: MOHAMED MUSTHAQ H | C12: 204 | D12: 61 | E12: 40 | F12: 79 | G12: 22 | H12: 7 | I12: 6 | J12: 32 | K12: 33 | L12: 10 | M12: 7 | N12: 28 | O12: 63 | P12: 19 | Q12: 13 | R12: 13 | S12: 86 | T12: 25 | U12: 14 | V12: 6
A13: 4 | B13: ARULGANESH A | C13: 71 | D13: 22 | E13: 17 | F13: 141 | G13: 9 | H13: 3 | I13: 3 | J13: 39 | K13: 20 | L13: 6 | M13: 4 | N13: 35 | O13: 26 | P13: 8 | Q13: 6 | R13: 31 | S13: 16 | T13: 5 | U13: 4 | V13: 36
A14: 1 | B14: AARTHIKADEVI P | C14: 63 | D14: 24 | E14: 33 | F14: 123 | G14: 27 | H14: 8 | I14: 5 | J14: 32 | K14: 16 | L14: 6 | M14: 8 | N14: 31 | O14: 11 | P14: 5 | Q14: 9 | R14: 31 | S14: 9 | T14: 5 | U14: 11 | V14: 29

Sheet Copy of WT - 1 EM
A1: THOOTHUKUDI NEET REGIONAL CENTRE WEEKLY TEST- 1 ENGLISH MEDIUM
A2: Roll No | B2: Name | C2: Total Marks | D2: Physics | E2: Chemistry | F2: Botany | G2: Zoology
A3: 20 | B3: MUTHU LAKSHMI G | C3: 378 | D3: 78 | E3: 138 | F3: 53 | G3: 109
A4: 3 | B4: ANTRORIJOWIN | C4: 354 | D4: 70 | E4: 117 | F4: 81 | G4: 86
A5: 1 | B5: AARTHIKADEVI P | C5: 353 | D5: 105 | E5: 96 | F5: 80 | G5: 72
A6: 24 | B6: RAGAVI D | C6: 345 | D6: 93 | E6: 93 | F6: 71 | G6: 88
A7: 35 | B7: VARSHASRI L | C7: 321 | D7: 70 | E7: 87 | F7: 36 | G7: 128
A8: 26 | B8: RINO V | C8: 314 | D8: 58 | E8: 66 | F8: 82 | G8: 108
A9: 8 | B9: GANESH ABISHEIK V | C9: 306 | D9: 78 | E9: 96 | F9: 65 | G9: 67
A10: 10 | B10: GOWSALYA N | C10: 281 | D10: 45 | E10: 37 | F10: 101 | G10: 98
A11: 32 | B11: SREEJESH M | C11: 246 | D11: 55 | E11: 60 | F11: 52 | G11: 79
A12: 31 | B12: SIMEON PRAY JAMES H | C12: 239 | D12: 70 | E12: 46 | F12: 37 | G12: 86
A13: 4 | B13: ARULGANESH A | C13: 215 | D13: 23 | E13: 40 | F13: 59 | G13: 93
A14: 15 | B14: KANNAN M | C14: 204 | D14: 37 | E14: 55 | F14: 42 | G14: 70
A15: 19 | B15: MOHAMED MUSTHAQ H | C15: 204 | D15: 22 | E15: 33 | F15: 63 | G15: 86

Sheet Copy of Copy of WT - 1 EM
A1: THOOTHUKUDI NEET REGIONAL CENTRE WEEKLY TEST- 1 TAMIL MEDIUM
A2: Roll No | B2: Name | C2: Total Marks | D2: Physics | E2: Chemistry | F2: Botany | G2: Zoology
A3: 30 | B3: SHALINI S | C3: 320 | D3: 32 | E3: 79 | F3: 101 | G3: 108
A4: 23 | B4: PAVIKAK | C4: 307 | D4: 18 | E4: 86 | F4: 83 | G4: 120
A5: 14 | B5: JANANI S | C5: 305 | D5: 43 | E5: 73 | F5: 85 | G5: 104
A6: 12 | B6: HARIPRASATH J | C6: 293 | D6: 53 | E6: 69 | F6: 73 | G6: 98
A7: 29 | B7: SATHYASRI K | C7: 283 | D7: 35 | E7: 85 | F7: 65 | G7: 98
A8: 2 | B8: AMEERA S | C8: 275 | D8: 51 | E8: 74 | F8: 66 | G8: 84
A9: 9 | B9: GOKULRAJ R | C9: 274 | D9: 30 | E9: 54 | F9: 80 | G9: 110
A10: 5 | B10: DENIAL SAMSON S | C10: 264 | D10: 70 | E10: 60 | F10: 41 | G10: 93
A11: 27 | B11: SABARISRIRAM I | C11: 248 | D11: 34 | E11: 67 | F11: 50 | G11: 97
A12: 21 | B12: NAVEENAROSELIN A | C12: 247 | D12: 60 | E12: 24 | F12: 85 | G12: 78
A13: 36 | B13: VIJAYSAKTHI B | C13: 239 | D13: 45 | E13: 58 | F13: 63 | G13: 73
A14: 28 | B14: SARIGA J | C14: 218 | D14: 55 | E14: 25 | F14: 40 | G14: 98
... A20: 17 | B20: KOUSIKA S | C20: 190 | D20: 12 | E20: 57 | F20: 53 | G20: 68

Sheet  WT - 1 TM
A1: THOOTHUKUDI NEET REGIONAL CENTRE WEEKLY TEST- 1 TAMIL MEDIUM
A2: Roll No | B2: Name | C2: Total Marks | D2: Correct Answers | E2: Incorrect Answers | F2: Not attempted | G2: Physics | H2: Physics _Correct Answers | I2: Physics _Incorrect Answers | J2: Physics _Not attempted | K2: Chemistry | L2: Chemistry_Correct Answers | M2: Chemistry_Incorrect Answers | N2: Chemistry_Not attempted | O2: Botany | P2: Botany_Correct Answers | Q2: Botany_Incorrect Answers | R2: Botany_Not attempted | S2: Zoology | T2: Zoology_Correct Answers | U2: Zoology_Incorrect Answers | V2: Zoology_Not attempted
A3: 14 | B3: JANANI S | C3: 310 | D3: 85 | E3: 30 | F3: 65 | G3: 43 | H3: 13 | I3: 9 | J3: 23 | K3: 73 | L3: 20 | M3: 7 | N3: 18 | O3: 85 | P3: 22 | Q3: 3 | R3: 20 | S3: 109 | T3: 30 | U3: 11 | V3: 4
A4: 11 | B4: GOWSHIK G | C4: 195 | D4: 60 | E4: 45 | F4: 75 | G4: 34 | H4: 11 | I4: 10 | J4: 24 | K4: 19 | L4: 6 | M4: 5 | N4: 34 | O4: 56 | P4: 18 | Q4: 16 | R4: 11 | S4: 86 | T4: 25 | U4: 14 | V4: 6
A5: 9 | B5: GOKULRAJ R | C5: 269 | D5: 83 | E5: 63 | F5: 34 | G5: 30 | H5: 11 | I5: 14 | J5: 20 | K5: 44 | L5: 16 | M5: 20 | N5: 9 | O5: 80 | P5: 24 | Q5: 16 | R5: 5 | S5: 115 | T5: 32 | U5: 13 | V5: 0
A6: 18 | B6: MALATHI E | C6: 189 | D6: 63 | E6: 63 | F6: 54 | G6: 23 | H6: 9 | I6: 13 | J6: 23 | K6: 31 | L6: 11 | M6: 13 | N6: 21 | O6: 53 | P6: 18 | Q6: 19 | R6: 8 | S6: 82 | T6: 25 | U6: 18 | V6: 2
A7: 30 | B7: SHALINI S | C7: 305 | D7: 88 | E7: 47 | F7: 45 | G7: 32 | H7: 10 | I7: 8 | J7: 27 | K7: 64 | L7: 20 | M7: 16 | N7: 9 | O7: 101 | P7: 28 | Q7: 11 | R7: 6 | S7: 108 | T7: 30 | U7: 12 | V7: 3
A8: 2 | B8: AMEERA S | C8: 260 | D8: 74 | E8: 36 | F8: 70 | G8: 51 | H8: 14 | I8: 5 | J8: 26 | K8: 59 | L8: 17 | M8: 9 | N8: 19 | O8: 66 | P8: 19 | Q8: 10 | R8: 16 | S8: 84 | T8: 24 | U8: 12 | V8: 9
A9: 23 | B9: PAVIKAK | C9: 282 | D9: 80 | E9: 38 | F9: 62 | G9: 18 | H9: 6 | I9: 6 | J9: 33 | K9: 61 | L9: 19 | M9: 15 | N9: 11 | O9: 83 | P9: 23 | Q9: 9 | R9: 13 | S9: 120 | T9: 32 | U9: 8 | V9: 5
A10: 29 | B10: SATHYASRI K | C10: 268 | D10: 77 | E10: 40 | F10: 63 | G10: 35 | H10: 11 | I10: 9 | J10: 25 | K10: 70 | L10: 20 | M10: 10 | N10: 15 | O10: 65 | P10: 19 | Q10: 11 | R10: 15 | S10: 98 | T10: 27 | U10: 10 | V10: 8
A11: 21 | B11: NAVEENAROSELIN A | C11: 262 | D11: 72 | E11: 26 | F11: 82 | G11: 60 | H11: 16 | I11: 4 | J11: 25 | K11: 34 | L11: 10 | M11: 6 | N11: 29 | O11: 85 | P11: 23 | Q11: 7 | R11: 15 | S11: 83 | T11: 23 | U11: 9 | V11: 13
A12: 27 | B12: SABARISRIRAM I | C12: 46 | D12: 14 | E12: 10 | F12: 156 | G12: 33 | H12: 9 | I12: 3 | J12: 33 | K12: 4 | L12: 1 | M12: 0 | N12: 44 | O12: 0 | P12: 0 | Q12: 0 | R12: 45 | S12: 9 | T12: 4 | U12: 7 | V12: 34
A13: 34 | B13: SURESH KUMAR B | C13: 208 | D13: 65 | E13: 52 | F13: 63 | G13: 49 | H13: 13 | I13: 3 | J13: 29 | K13: 46 | L13: 15 | M13: 14 | N13: 16 | O13: 32 | P13: 13 | Q13: 20 | R13: 12 | S13: 81 | T13: 24 | U13: 15 | V13: 6
A14: 12 | B14: HARIPRASATH J | C14: 288 | D14: 80 | E14: 32 | F14: 68 | G14: 48 | H14: 13 | I14: 4 | J14: 28 | K14: 64 | L14: 19 | M14: 12 | N14: 14 | O14: 73 | P14: 20 | Q14: 7 | R14: 18 | S14: 103 | T14: 28 | U14: 9 | V14: 8
... A19: 33 | B19: SUJITH A | C19: 194 | D19: 67 | E19: 74 | F19: 39 | G19: -11 | H19: 4 | I19: 27 | J19: 14 | K19: 63 | L19: 20 | M19: 17 | N19: 8 | O19: 64 | P19: 19 | Q19: 12 | R19: 14 | S19: 78 | T19: 24 | U19: 18 | V19: 3

Sheet   WT - 2 TM
A1: THOOTHUKUDI NEET REGIONAL CENTRE WEEKLY TEST- 2 TAMIL MEDIUM
A2: Roll No | B2: Name | C2: Total Marks | D2: Correct Answers | E2: Incorrect Answers | F2: Not attempted | G2: Physics | H2: Chemistry | I2: Botany | J2: Zoology
A3: 30 | B3: SHALINI S | C3: 371 | D3: 103 | E3: 41 | F3: 36 | G3: 61 | H3: 116 | I3: 75 | J3: 119
A4: 21 | B4: NAVEENAROSELIN A | C4: 371 | D4: 99 | E4: 25 | F4: 56 | G4: 65 | H4: 64 | I4: 117 | J4: 125
A5: 14 | B5: JANANI S | C5: 322 | D5: 89 | E5: 34 | F5: 57 | G5: 49 | H5: 60 | I5: 90 | J5: 123
A6: 7 | B6: ELANGOVAN K | C6: 320 | D6: 95 | E6: 60 | F6: 25 | G6: 21 | H6: 79 | I6: 80 | J6: 140
A7: 11 | B7: GOWSHIK G | C7: 319 | D7: 91 | E7: 45 | F7: 44 | G7: 64 | H7: 60 | I7: 88 | J7: 107
A8: 5 | B8: DENIAL SAMSON S | C8: 300 | D8: 91 | E8: 64 | F8: 25 | G8: 63 | H8: 70 | I8: 60 | J8: 107
A9: 12 | B9: HARIPRASATH J | C9: 300 | D9: 84 | E9: 36 | F9: 60 | G9: 29 | H9: 62 | I9: 87 | J9: 122
A10: 27 | B10: SABARISRIRAM I | C10: 296 | D10: 87 | E10: 52 | F10: 41 | G10: 39 | H10: 66 | I10: 74 | J10: 117
A11: 36 | B11: VIJAYSAKTHI B | C11: 291 | D11: 88 | E11: 61 | F11: 31 | G11: 20 | H11: 71 | I11: 80 | J11: 120
A12: 28 | B12: SARIGA J | C12: 289 | D12: 83 | E12: 43 | F12: 54 | G12: 46 | H12: 25 | I12: 119 | J12: 99
A13: 33 | B13: SUJITH A | C13: 285 | D13: 84 | E13: 51 | F13: 45 | G13: 31 | H13: 70 | I13: 73 | J13: 111
A14: 9 | B14: GOKULRAJ R | C14: 277 | D14: 86 | E14: 67 | F14: 27 | G14: 35 | H14: 66 | I14: 66 | J14: 110
... A19: 22 | B19: NEEDHIRAJAN V | C19: 154 | D19: 58 | E19: 78 | F19: 44 | G19: 19 | H19: 53 | I19: 42 | J19: 40

Sheet   WT - 2 EM
A1: THOOTHUKUDI NEET REGIONAL CENTRE WEEKLY TEST- 2 ENGLISH MEDIUM
A2: Roll No | B2: Name | C2: Total Marks | D2: Correct Answers | E2: Incorrect Answers | F2: Not attempted | G2: Physics | H2: Chemistry | I2: Botany | J2: Zoology
A3: 24 | B3: RAGAVI D | C3: 423 | D3: 115 | E3: 37 | F3: 28 | G3: 75 | H3: 67 | I3: 144 | J3: 137
A4: 35 | B4: VARSHASRI L | C4: 412 | D4: 114 | E4: 44 | F4: 22 | G4: 116 | H4: 85 | I4: 98 | J4: 113
A5: 20 | B5: MUTHU LAKSHMI G | C5: 407 | D5: 107 | E5: 21 | F5: 52 | G5: 119 | H5: 89 | I5: 86 | J5: 113
A6: 1 | B6: AARTHIKADEVI P | C6: 406 | D6: 116 | E6: 58 | F6: 6 | G6: 110 | H6: 86 | I6: 95 | J6: 115
A7: 3 | B7: ANTRORIJOWIN | C7: 388 | D7: 106 | E7: 36 | F7: 38 | G7: 112 | H7: 66 | I7: 108 | J7: 102
A8: 31 | B8: SIMEON PRAY JAMES H | C8: 346 | D8: 101 | E8: 58 | F8: 21 | G8: 61 | H8: 71 | I8: 88 | J8: 126
A9: 16 | B9: KARTHICK AGIL I | C9: 328 | D9: 89 | E9: 28 | F9: 63 | G9: 56 | H9: 80 | I9: 69 | J9: 123
A10: 15 | B10: KANNAN M | C10: 304 | D10: 93 | E10: 68 | F10: 19 | G10: 62 | H10: 69 | I10: 61 | J10: 112
A11: 10 | B11: GOWSALYA N | C11: 303 | D11: 87 | E11: 45 | F11: 48 | G11: 21 | H11: 69 | I11: 108 | J11: 105
A12: 26 | B12: RINO V | C12: 303 | D12: 83 | E12: 29 | F12: 68 | G12: 57 | H12: 31 | I12: 98 | J12: 117
A13: 32 | B13: SREEJESH M | C13: 273 | D13: 76 | E13: 31 | F13: 73 | G13: 48 | H13: 51 | I13: 79 | J13: 95
A14: 4 | B14: ARULGANESH A | C14: 271 | D14: 75 | E14: 29 | F14: 76 | G14: 50 | H14: 49 | I14: 62 | J14: 110
... A16: 8 | B16: GANESH ABISHEIK V | C16: 247 | D16: 68 | E16: 25 | F16: 87 | G16: 76 | H16: 54 | I16: 37 | J16: 80

Sheet Overall WT -1
A1: THOOTHUKUDI NEET REGIONAL CENTRE WEEKLY TEST- 1 OVERALL
A2: Roll No | B2: Name | C2: Medium | D2: Total Marks | E2: Correct Answers | F2: Incorrect Answers | G2: Not attempted | H2: Physics | I2: Physics _Correct Answers | J2: Physics _Incorrect Answers | K2: Physics _Not attempted | L2: Chemistry | M2: Chemistry_Correct Answers | N2: Chemistry_Incorrect Answers | O2: Chemistry_Not attempted | P2: Botany | Q2: Botany_Correct Answers | R2: Botany_Incorrect Answers | S2: Botany_Not attempted | T2: Zoology | U2: Zoology_Correct Answers | V2: Zoology_Incorrect Answers | W2: Zoology_Not attempted
A3: 20 | B3: MUTHU LAKSHMI G | C3: E | D3: 378 | E3: 98 | F3: 14 | G3: 68 | H3: 78 | I3: 20 | J3: 2 | K3: 23 | L3: 138 | M3: 35 | N3: 2 | O3: 8 | P3: 53 | Q3: 14 | R3: 3 | S3: 28 | T3: 109 | U3: 29 | V3: 7 | W3: 9
A4: 3 | B4: ANTRORIJOWIN | C4: E | D4: 359 | E4: 98 | F4: 33 | G4: 49 | H4: 70 | I4: 19 | J4: 6 | K4: 20 | L4: 122 | M4: 32 | N4: 6 | O4: 7 | P4: 81 | Q4: 23 | R4: 11 | S4: 11 | T4: 86 | U4: 24 | V4: 10 | W4: 11
A5: 24 | B5: RAGAVI D | C5: E | D5: 350 | E5: 99 | F5: 46 | G5: 35 | H5: 93 | I5: 26 | J5: 11 | K5: 8 | L5: 93 | M5: 25 | N5: 7 | O5: 13 | P5: 76 | Q5: 22 | R5: 12 | S5: 11 | T5: 88 | U5: 26 | V5: 16 | W5: 3
A6: 35 | B6: VARSHASRI L | C6: E | D6: 326 | E6: 95 | F6: 54 | G6: 31 | H6: 70 | I6: 21 | J6: 14 | K6: 10 | L6: 87 | M6: 24 | N6: 9 | O6: 12 | P6: 41 | Q6: 16 | R6: 23 | S6: 6 | T6: 128 | U6: 34 | V6: 8 | W6: 3
A7: 14 | B7: JANANI S | C7: T | D7: 310 | E7: 85 | F7: 30 | G7: 65 | H7: 43 | I7: 13 | J7: 9 | K7: 23 | L7: 73 | M7: 20 | N7: 7 | O7: 18 | P7: 85 | Q7: 22 | R7: 3 | S7: 20 | T7: 109 | U7: 30 | V7: 11 | W7: 4
A8: 26 | B8: RINO V | C8: E | D8: 309 | E8: 88 | F8: 43 | G8: 49 | H8: 58 | I8: 16 | J8: 6 | K8: 23 | L8: 61 | M8: 17 | N8: 7 | O8: 21 | P8: 82 | Q8: 25 | R8: 18 | S8: 2 | T8: 108 | U8: 30 | V8: 12 | W8: 3
A9: 30 | B9: SHALINI S | C9: T | D9: 305 | E9: 88 | F9: 47 | G9: 45 | H9: 32 | I9: 10 | J9: 8 | K9: 27 | L9: 64 | M9: 20 | N9: 16 | O9: 9 | P9: 101 | Q9: 28 | R9: 11 | S9: 6 | T9: 108 | U9: 30 | V9: 12 | W9: 3
A10: 12 | B10: HARIPRASATH J | C10: T | D10: 288 | E10: 80 | F10: 32 | G10: 68 | H10: 48 | I10: 13 | J10: 4 | K10: 28 | L10: 64 | M10: 19 | N10: 12 | O10: 14 | P10: 73 | Q10: 20 | R10: 7 | S10: 18 | T10: 103 | U10: 28 | V10: 9 | W10: 8
A11: 23 | B11: PAVIKAK | C11: T | D11: 282 | E11: 80 | F11: 38 | G11: 62 | H11: 18 | I11: 6 | J11: 6 | K11: 33 | L11: 61 | M11: 19 | N11: 15 | O11: 11 | P11: 83 | Q11: 23 | R11: 9 | S11: 13 | T11: 120 | U11: 32 | V11: 8 | W11: 5
A12: 10 | B12: GOWSALYA N | C12: E | D12: 281 | E12: 83 | F12: 51 | G12: 46 | H12: 45 | I12: 14 | J12: 11 | K12: 20 | L12: 37 | M12: 13 | N12: 15 | O12: 17 | P12: 101 | Q12: 28 | R12: 11 | S12: 6 | T12: 98 | U12: 28 | V12: 14 | W12: 3
A13: 9 | B13: GOKULRAJ R | C13: T | D13: 269 | E13: 83 | F13: 63 | G13: 34 | H13: 30 | I13: 11 | J13: 14 | K13: 20 | L13: 44 | M13: 16 | N13: 20 | O13: 9 | P13: 80 | Q13: 24 | R13: 16 | S13: 5 | T13: 115 | U13: 32 | V13: 13 | W13: 0
A14: 5 | B14: DENIAL SAMSON S | C14: T | D14: 269 | E14: 81 | F14: 55 | G14: 44 | H14: 75 | I14: 21 | J14: 9 | K14: 15 | L14: 60 | M14: 18 | N14: 12 | O14: 15 | P14: 41 | Q14: 15 | R14: 19 | S14: 11 | T14: 93 | U14: 27 | V14: 15 | W14: 3
... A31: 27 | B31: SABARISRIRAM I | C31: T | D31: 46 | E31: 14 | F31: 10 | G31: 156 | H31: 33 | I31: 9 | J31: 3 | K31: 33 | L31: 4 | M31: 1 | N31: 0 | O31: 44 | P31: 0 | Q31: 0 | R31: 0 | S31: 45 | T31: 9 | U31: 4 | V31: 7 | W31: 34

Sheet Community Wise WT -1
A1: THOOTHUKUDI NEET REGIONAL CENTRE WEEKLY TEST- 1 OVERALL
A2: Roll No | B2: Name | C2: Medium | D2: Community | E2: 7.5 / Non 7.5 | F2: Total Marks | G2: Correct Answers | H2: Incorrect Answers | I2: Not attempted | J2: Physics | K2: Physics _Correct Answers | L2: Physics _Incorrect Answers | M2: Physics _Not attempted | N2: Chemistry | O2: Chemistry_Correct Answers | P2: Chemistry_Incorrect Answers | Q2: Chemistry_Not attempted | R2: Botany | S2: Botany_Correct Answers | T2: Botany_Incorrect Answers | U2: Botany_Not attempted | V2: Zoology | W2: Zoology_Correct Answers | X2: Zoology_Incorrect Answers | Y2: Zoology_Not attempted
A3: 20 | B3: MUTHU LAKSHMI G | C3: E | D3: DNC | E3: Non 7.5 | F3: 378 | G3: 98 | H3: 14 | I3: 68 | J3: 78 | K3: 20 | L3: 2 | M3: 23 | N3: 138 | O3: 35 | P3: 2 | Q3: 8 | R3: 53 | S3: 14 | T3: 3 | U3: 28 | V3: 109 | W3: 29 | X3: 7 | Y3: 9
A4: 3 | B4: ANTRORIJOWIN | C4: E | D4: BC | E4: Non 7.5 | F4: 359 | G4: 98 | H4: 33 | I4: 49 | J4: 70 | K4: 19 | L4: 6 | M4: 20 | N4: 122 | O4: 32 | P4: 6 | Q4: 7 | R4: 81 | S4: 23 | T4: 11 | U4: 11 | V4: 86 | W4: 24 | X4: 10 | Y4: 11
A5: 24 | B5: RAGAVI D | C5: E | D5: DNC | E5: 7.5 | F5: 350 | G5: 99 | H5: 46 | I5: 35 | J5: 93 | K5: 26 | L5: 11 | M5: 8 | N5: 93 | O5: 25 | P5: 7 | Q5: 13 | R5: 76 | S5: 22 | T5: 12 | U5: 11 | V5: 88 | W5: 26 | X5: 16 | Y5: 3
A6: 35 | B6: VARSHASRI L | C6: E | D6: BC | E6: 7.5 | F6: 326 | G6: 95 | H6: 54 | I6: 31 | J6: 70 | K6: 21 | L6: 14 | M6: 10 | N6: 87 | O6: 24 | P6: 9 | Q6: 12 | R6: 41 | S6: 16 | T6: 23 | U6: 6 | V6: 128 | W6: 34 | X6: 8 | Y6: 3
A7: 14 | B7: JANANI S | C7: T | D7: BC | E7: 7.5 | F7: 310 | G7: 85 | H7: 30 | I7: 65 | J7: 43 | K7: 13 | L7: 9 | M7: 23 | N7: 73 | O7: 20 | P7: 7 | Q7: 18 | R7: 85 | S7: 22 | T7: 3 | U7: 20 | V7: 109 | W7: 30 | X7: 11 | Y7: 4
A8: 26 | B8: RINO V | C8: E | D8: BC | E8: 7.5 | F8: 309 | G8: 88 | H8: 43 | I8: 49 | J8: 58 | K8: 16 | L8: 6 | M8: 23 | N8: 61 | O8: 17 | P8: 7 | Q8: 21 | R8: 82 | S8: 25 | T8: 18 | U8: 2 | V8: 108 | W8: 30 | X8: 12 | Y8: 3
A9: 30 | B9: SHALINI S | C9: T | D9: BC | E9: 7.5 | F9: 305 | G9: 88 | H9: 47 | I9: 45 | J9: 32 | K9: 10 | L9: 8 | M9: 27 | N9: 64 | O9: 20 | P9: 16 | Q9: 9 | R9: 101 | S9: 28 | T9: 11 | U9: 6 | V9: 108 | W9: 30 | X9: 12 | Y9: 3
A10: 12 | B10: HARIPRASATH J | C10: T | D10: DNC | E10: 7.5 | F10: 288 | G10: 80 | H10: 32 | I10: 68 | J10: 48 | K10: 13 | L10: 4 | M10: 28 | N10: 64 | O10: 19 | P10: 12 | Q10: 14 | R10: 73 | S10: 20 | T10: 7 | U10: 18 | V10: 103 | W10: 28 | X10: 9 | Y10: 8
A11: 23 | B11: PAVIKAK | C11: T | D11: SC | E11: 7.5 | F11: 282 | G11: 80 | H11: 38 | I11: 62 | J11: 18 | K11: 6 | L11: 6 | M11: 33 | N11: 61 | O11: 19 | P11: 15 | Q11: 11 | R11: 83 | S11: 23 | T11: 9 | U11: 13 | V11: 120 | W11: 32 | X11: 8 | Y11: 5
A12: 10 | B12: GOWSALYA N | C12: E | D12: DNC | E12: 7.5 | F12: 281 | G12: 83 | H12: 51 | I12: 46 | J12: 45 | K12: 14 | L12: 11 | M12: 20 | N12: 37 | O12: 13 | P12: 15 | Q12: 17 | R12: 101 | S12: 28 | T12: 11 | U12: 6 | V12: 98 | W12: 28 | X12: 14 | Y12: 3
A13: 5 | B13: DENIAL SAMSON S | C13: T | D13: BC | E13: 7.5 | F13: 269 | G13: 81 | H13: 55 | I13: 44 | J13: 75 | K13: 21 | L13: 9 | M13: 15 | N13: 60 | O13: 18 | P13: 12 | Q13: 15 | R13: 41 | S13: 15 | T13: 19 | U13: 11 | V13: 93 | W13: 27 | X13: 15 | Y13: 3
A14: 9 | B14: GOKULRAJ R | C14: T | D14: BC | E14: 7.5 | F14: 269 | G14: 83 | H14: 63 | I14: 34 | J14: 30 | K14: 11 | L14: 14 | M14: 20 | N14: 44 | O14: 16 | P14: 20 | Q14: 9 | R14: 80 | S14: 24 | T14: 16 | U14: 5 | V14: 115 | W14: 32 | X14: 13 | Y14: 0
A15: 29 | B15: SATHYASRI K | C15: T | D15: BC | E15: 7.5 | F15: 268 | G15: 77 | H15: 40 | I15: 63 | J15: 35 | K15: 11 | L15: 9 | M15: 25 | N15: 70 | O15: 20 | P15: 10 | Q15: 15 | R15: 65 | S15: 19 | T15: 11 | U15: 15 | V15: 98 | W15: 27 | X15: 10 | Y15: 8
A16: 21 | B16: NAVEENAROSELIN A | C16: T | D16: BC | E16: Non 7.5 | F16: 262 | G16: 72 | H16: 26 | I16: 82 | J16: 60 | K16: 16 | L16: 4 | M16: 25 | N16: 34 | O16: 10 | P16: 6 | Q16: 29 | R16: 85 | S16: 23 | T16: 7 | U16: 15 | V16: 83 | W16: 23 | X16: 9 | Y16: 13
A17: 2 | B17: AMEERA S | C17: T | D17: BCM | E17: 7.5 % | F17: 260 | G17: 74 | H17: 36 | I17: 70 | J17: 51 | K17: 14 | L17: 5 | M17: 26 | N17: 59 | O17: 17 | P17: 9 | Q17: 19 | R17: 66 | S17: 19 | T17: 10 | U17: 16 | V17: 84 | W17: 24 | X17: 12 | Y17: 9
A18: 32 | B18: SREEJESH M | C18: E | D18: ST | E18: 7.5 | F18: 251 | G18: 72 | H18: 37 | I18: 71 | J18: 55 | K18: 15 | L18: 5 | M18: 25 | N18: 60 | O18: 17 | P18: 8 | Q18: 20 | R18: 57 | S18: 16 | T18: 7 | U18: 22 | V18: 79 | W18: 24 | X18: 17 | Y18: 4
A19: 31 | B19: SIMEON PRAY JAMES H | C19: E | D19: BC | E19: 7.5 | F19: 244 | G19: 74 | H19: 52 | I19: 54 | J19: 70 | K19: 19 | L19: 6 | M19: 20 | N19: 51 | O19: 15 | P19: 9 | Q19: 21 | R19: 37 | S19: 15 | T19: 23 | U19: 7 | V19: 86 | W19: 25 | X19: 14 | Y19: 6
A20: 36 | B20: VIJAYSAKTHI B | C20: T | D20: DNC | E20: 7.5 | F20: 234 | G20: 72 | H20: 54 | I20: 54 | J20: 40 | K20: 13 | L20: 12 | M20: 20 | N20: 53 | O20: 17 | P20: 15 | Q20: 13 | R20: 63 | S20: 18 | T20: 9 | U20: 18 | V20: 78 | W20: 24 | X20: 18 | Y20: 3
A21: 15 | B21: KANNAN M | C21: E | D21: SC | E21: Non 7.5 | F21: 214 | G21: 74 | H21: 82 | I21: 24 | J21: 37 | K21: 15 | L21: 23 | M21: 7 | N21: 65 | O21: 20 | P21: 15 | Q21: 10 | R21: 42 | S21: 16 | T21: 22 | U21: 7 | V21: 70 | W21: 23 | X21: 22 | Y21: 0
A22: 28 | B22: SARIGA J | C22: T | D22: DNC | E22: 7.5 | F22: 208 | G22: 62 | H22: 40 | I22: 78 | J22: 55 | K22: 16 | L22: 9 | M22: 20 | N22: 10 | O22: 4 | P22: 6 | Q22: 35 | R22: 40 | S22: 13 | T22: 12 | U22: 20 | V22: 103 | W22: 29 | X22: 13 | Y22: 3
A23: 34 | B23: SURESH KUMAR B | C23: T | D23: SC | E23: 7.5 PWD | F23: 208 | G23: 65 | H23: 52 | I23: 63 | J23: 49 | K23: 13 | L23: 3 | M23: 29 | N23: 46 | O23: 15 | P23: 14 | Q23: 16 | R23: 32 | S23: 13 | T23: 20 | U23: 12 | V23: 81 | W23: 24 | X23: 15 | Y23: 6
A24: 19 | B24: MOHAMED MUSTHAQ H | C24: E | D24: BCM | E24: Non 7.5 | F24: 204 | G24: 61 | H24: 40 | I24: 79 | J24: 22 | K24: 7 | L24: 6 | M24: 32 | N24: 33 | O24: 10 | P24: 7 | Q24: 28 | R24: 63 | S24: 19 | T24: 13 | U24: 13 | V24: 86 | W24: 25 | X24: 14 | Y24: 6
A25: 11 | B25: GOWSHIK G | C25: T | D25: SC | E25: 7.5 | F25: 195 | G25: 60 | H25: 45 | I25: 75 | J25: 34 | K25: 11 | L25: 10 | M25: 24 | N25: 19 | O25: 6 | P25: 5 | Q25: 34 | R25: 56 | S25: 18 | T25: 16 | U25: 11 | V25: 86 | W25: 25 | X25: 14 | Y25: 6
A26: 33 | B26: SUJITH A | C26: T | D26: BC | E26: 7.5 | F26: 194 | G26: 67 | H26: 74 | I26: 39 | J26: -11 | K26: 4 | L26: 27 | M26: 14 | N26: 63 | O26: 20 | P26: 17 | Q26: 8 | R26: 64 | S26: 19 | T26: 12 | U26: 14 | V26: 78 | W26: 24 | X26: 18 | Y26: 3
A27: 18 | B27: MALATHI E | C27: T | D27: SCA | E27: 7.5 | F27: 189 | G27: 63 | H27: 63 | I27: 54 | J27: 23 | K27: 9 | L27: 13 | M27: 23 | N27: 31 | O27: 11 | P27: 13 | Q27: 21 | R27: 53 | S27: 18 | T27: 19 | U27: 8 | V27: 82 | W27: 25 | X27: 18 | Y27: 2
A28: 7 | B28: ELANGOVAN K | C28: T | D28: MBC | E28: 7.5 | F28: 183 | G28: 66 | H28: 81 | I28: 33 | J28: 36 | K28: 14 | L28: 20 | M28: 11 | N28: 58 | O28: 19 | P28: 18 | Q28: 8 | R28: 15 | S28: 10 | T28: 25 | U28: 10 | V28: 74 | W28: 23 | X28: 18 | Y28: 4
A29: 4 | B29: ARULGANESH A | C29: E | D29: SC | E29: 7.5 | F29: 71 | G29: 22 | H29: 17 | I29: 141 | J29: 9 | K29: 3 | L29: 3 | M29: 39 | N29: 20 | O29: 6 | P29: 4 | Q29: 35 | R29: 26 | S29: 8 | T29: 6 | U29: 31 | V29: 16 | W29: 5 | X29: 4 | Y29: 36
A30: 1 | B30: AARTHIKADEVI P | C30: E | D30: SC | E30: 7.5 | F30: 63 | G30: 24 | H30: 33 | I30: 123 | J30: 27 | K30: 8 | L30: 5 | M30: 32 | N30: 16 | O30: 6 | P30: 8 | Q30: 31 | R30: 11 | S30: 5 | T30: 9 | U30: 31 | V30: 9 | W30: 5 | X30: 11 | Y30: 29
A31: 27 | B31: SABARISRIRAM I | C31: T | D31: BC | E31: 7.5 | F31: 46 | G31: 14 | H31: 10 | I31: 156 | J31: 33 | K31: 9 | L31: 3 | M31: 33 | N31: 4 | O31: 1 | P31: 0 | Q31: 44 | R31: 0 | S31: 0 | T31: 0 | U31: 45 | V31: 9 | W31: 4 | X31: 7 | Y31: 34
